BEGIN:VCALENDAR
VERSION:2.0
PRODID:-//Walkin&#039; Roll Activities League, Inc. - ECPv6.15.20//NONSGML v1.0//EN
CALSCALE:GREGORIAN
METHOD:PUBLISH
X-WR-CALNAME:Walkin&#039; Roll Activities League, Inc.
X-ORIGINAL-URL:https://www.walkinroll.org
X-WR-CALDESC:Events for Walkin&#039; Roll Activities League, Inc.
REFRESH-INTERVAL;VALUE=DURATION:PT1H
X-Robots-Tag:noindex
X-PUBLISHED-TTL:PT1H
BEGIN:VTIMEZONE
TZID:America/New_York
BEGIN:DAYLIGHT
TZOFFSETFROM:-0500
TZOFFSETTO:-0400
TZNAME:EDT
DTSTART:20240310T070000
END:DAYLIGHT
BEGIN:STANDARD
TZOFFSETFROM:-0400
TZOFFSETTO:-0500
TZNAME:EST
DTSTART:20241103T060000
END:STANDARD
BEGIN:DAYLIGHT
TZOFFSETFROM:-0500
TZOFFSETTO:-0400
TZNAME:EDT
DTSTART:20250309T070000
END:DAYLIGHT
BEGIN:STANDARD
TZOFFSETFROM:-0400
TZOFFSETTO:-0500
TZNAME:EST
DTSTART:20251102T060000
END:STANDARD
BEGIN:DAYLIGHT
TZOFFSETFROM:-0500
TZOFFSETTO:-0400
TZNAME:EDT
DTSTART:20260308T070000
END:DAYLIGHT
BEGIN:STANDARD
TZOFFSETFROM:-0400
TZOFFSETTO:-0500
TZNAME:EST
DTSTART:20261101T060000
END:STANDARD
END:VTIMEZONE
BEGIN:VEVENT
DTSTART;TZID=America/New_York:20251003T180000
DTEND;TZID=America/New_York:20251003T200000
DTSTAMP:20260424T220420
CREATED:20250120T030017Z
LAST-MODIFIED:20250120T030017Z
UID:2924-1759514400-1759521600@www.walkinroll.org
SUMMARY:Game Night
DESCRIPTION:Join us for Game Night – Theme TBD\n\n  \nWatch our Facebook Group for updates regarding the theme and menu of each event.
URL:https://www.walkinroll.org/event/game-night-42/
LOCATION:Walkin’ Roll Activities Center\, 202 S Center Street\, Hildebran\, NC\, 28637\, United States
CATEGORIES:Walkin' Roll Events
END:VEVENT
BEGIN:VEVENT
DTSTART;TZID=America/New_York:20251017T180000
DTEND;TZID=America/New_York:20251017T200000
DTSTAMP:20260424T220420
CREATED:20250120T030111Z
LAST-MODIFIED:20250120T030111Z
UID:2926-1760724000-1760731200@www.walkinroll.org
SUMMARY:Game Night (Halloween)
DESCRIPTION:Join us for Game Night – Halloween\n\n  \nWatch our Facebook Group for updates regarding the theme and menu of each event.
URL:https://www.walkinroll.org/event/game-night-halloween/
LOCATION:Walkin’ Roll Activities Center\, 202 S Center Street\, Hildebran\, NC\, 28637\, United States
CATEGORIES:Walkin' Roll Events
END:VEVENT
END:VCALENDAR