BEGIN:VCALENDAR
VERSION:2.0
PRODID:-//Walkin&#039; Roll Activities League, Inc. - ECPv6.15.20//NONSGML v1.0//EN
CALSCALE:GREGORIAN
METHOD:PUBLISH
X-WR-CALNAME:Walkin&#039; Roll Activities League, Inc.
X-ORIGINAL-URL:https://www.walkinroll.org
X-WR-CALDESC:Events for Walkin&#039; Roll Activities League, Inc.
REFRESH-INTERVAL;VALUE=DURATION:PT1H
X-Robots-Tag:noindex
X-PUBLISHED-TTL:PT1H
BEGIN:VTIMEZONE
TZID:America/New_York
BEGIN:DAYLIGHT
TZOFFSETFROM:-0500
TZOFFSETTO:-0400
TZNAME:EDT
DTSTART:20240310T070000
END:DAYLIGHT
BEGIN:STANDARD
TZOFFSETFROM:-0400
TZOFFSETTO:-0500
TZNAME:EST
DTSTART:20241103T060000
END:STANDARD
BEGIN:DAYLIGHT
TZOFFSETFROM:-0500
TZOFFSETTO:-0400
TZNAME:EDT
DTSTART:20250309T070000
END:DAYLIGHT
BEGIN:STANDARD
TZOFFSETFROM:-0400
TZOFFSETTO:-0500
TZNAME:EST
DTSTART:20251102T060000
END:STANDARD
BEGIN:DAYLIGHT
TZOFFSETFROM:-0500
TZOFFSETTO:-0400
TZNAME:EDT
DTSTART:20260308T070000
END:DAYLIGHT
BEGIN:STANDARD
TZOFFSETFROM:-0400
TZOFFSETTO:-0500
TZNAME:EST
DTSTART:20261101T060000
END:STANDARD
END:VTIMEZONE
BEGIN:VEVENT
DTSTART;TZID=America/New_York:20250502T180000
DTEND;TZID=America/New_York:20250502T200000
DTSTAMP:20260425T071601
CREATED:20250120T025504Z
LAST-MODIFIED:20250120T025504Z
UID:2904-1746208800-1746216000@www.walkinroll.org
SUMMARY:Game Night (Cinco de Mayo)
DESCRIPTION:Join us for Game Night – Cinco de Mayo  – Tacos\n\n  \nWatch our Facebook Group for updates regarding the theme and menu of each event.
URL:https://www.walkinroll.org/event/game-night-cinco-de-mayo/
LOCATION:Walkin’ Roll Activities Center\, 202 S Center Street\, Hildebran\, NC\, 28637\, United States
CATEGORIES:Walkin' Roll Events
END:VEVENT
BEGIN:VEVENT
DTSTART;TZID=America/New_York:20250503T100000
DTEND;TZID=America/New_York:20250503T120000
DTSTAMP:20260425T071601
CREATED:20250120T032648Z
LAST-MODIFIED:20250120T032648Z
UID:2954-1746266400-1746273600@www.walkinroll.org
SUMMARY:T-ball Game
DESCRIPTION:Regular Season Games will be played at Samuel Davis Field in the Ridgeview Community.\nAddress:  730 3rd St SW – Hickory\, NC 28602 OR click the Google Maps link in the post. \nPlease watch for changes due to inclement weather on our Facebook Group or Facebook Page. \n10am – 11am -Braves vs Rockies\n11am – 12 noon – Rangers vs Crawdads
URL:https://www.walkinroll.org/event/t-ball-game-24/
LOCATION:Samuel Davis Field\, 730 3rd St SW\, Hickory\, NC\, 28602\, United States
CATEGORIES:Walkin' Roll Events
END:VEVENT
BEGIN:VEVENT
DTSTART;TZID=America/New_York:20250510T100000
DTEND;TZID=America/New_York:20250510T120000
DTSTAMP:20260425T071601
CREATED:20250120T032711Z
LAST-MODIFIED:20250120T032711Z
UID:2956-1746871200-1746878400@www.walkinroll.org
SUMMARY:T-ball Game
DESCRIPTION:Regular Season Games will be played at Samuel Davis Field in the Ridgeview Community.\nAddress:  730 3rd St SW – Hickory\, NC 28602 OR click the Google Maps link in the post. \nPlease watch for changes due to inclement weather on our Facebook Group or Facebook Page. \n10am – 11am -Braves vs Rockies\n11am – 12 noon – Rangers vs Crawdads
URL:https://www.walkinroll.org/event/t-ball-game-25/
LOCATION:Samuel Davis Field\, 730 3rd St SW\, Hickory\, NC\, 28602\, United States
CATEGORIES:Walkin' Roll Events
END:VEVENT
BEGIN:VEVENT
DTSTART;TZID=America/New_York:20250516T180000
DTEND;TZID=America/New_York:20250516T200000
DTSTAMP:20260425T071601
CREATED:20250120T025531Z
LAST-MODIFIED:20250120T025531Z
UID:2906-1747418400-1747425600@www.walkinroll.org
SUMMARY:Game Night
DESCRIPTION:Join us for Game Night – Theme TBD\n\n  \nWatch our Facebook Group for updates regarding the theme and menu of each event.
URL:https://www.walkinroll.org/event/game-night-36/
LOCATION:Walkin’ Roll Activities Center\, 202 S Center Street\, Hildebran\, NC\, 28637\, United States
CATEGORIES:Walkin' Roll Events
END:VEVENT
BEGIN:VEVENT
DTSTART;TZID=America/New_York:20250517T100000
DTEND;TZID=America/New_York:20250517T120000
DTSTAMP:20260425T071601
CREATED:20250422T040939Z
LAST-MODIFIED:20250422T040939Z
UID:3025-1747476000-1747483200@www.walkinroll.org
SUMMARY:T-ball Game
DESCRIPTION:Regular Season Games will be played at Samuel Davis Field in the Ridgeview Community.\nAddress:  730 3rd St SW – Hickory\, NC 28602 OR click the Google Maps link in the post. \nPlease watch for changes due to inclement weather on our Facebook Group or Facebook Page. \n10am – 11am -Braves vs Rockies\n11am – 12 noon – Rangers vs Crawdads
URL:https://www.walkinroll.org/event/t-ball-game-26/
LOCATION:Samuel Davis Field\, 730 3rd St SW\, Hickory\, NC\, 28602\, United States
CATEGORIES:Walkin' Roll Events
END:VEVENT
BEGIN:VEVENT
DTSTART;TZID=America/New_York:20250524T093000
DTEND;TZID=America/New_York:20250524T133000
DTSTAMP:20260425T071601
CREATED:20250120T030950Z
LAST-MODIFIED:20250422T040847Z
UID:2936-1748079000-1748093400@www.walkinroll.org
SUMMARY:Season Finale T-ball Game (Hickory Crawdads' Stadium)
DESCRIPTION:31st Annual Season Finale T-ball Game will be played at the Hickory Crawdads Stadium \nIn case of inclement weather an announcement will be made by 8:00 AM on the day of the game or before if possible. Be sure to check Facebook and our website for updates. \n9:30am – Meet at Hickory Crawdad Field for Opening Ceremony\n10am – 11am -Braves vs Rockies\n11am – 12 noon – Rangers vs Crawdads \nBring a pack of cookies and a bag of chips to share. \nWatch for important updates on our Facebook Group and Facebook Page. \n \n  \n  \n 
URL:https://www.walkinroll.org/event/season-finale-t-ball-game-hickory-crawdads-stadium/
LOCATION:Hickory Crawdads Field\, 2500 Clement Blvd NW\, Hickory\, NC\, 28601\, United States
CATEGORIES:Walkin' Roll Events
END:VEVENT
END:VCALENDAR