BEGIN:VCALENDAR
VERSION:2.0
PRODID:-//Walkin&#039; Roll Activities League, Inc. - ECPv6.15.20//NONSGML v1.0//EN
CALSCALE:GREGORIAN
METHOD:PUBLISH
X-WR-CALNAME:Walkin&#039; Roll Activities League, Inc.
X-ORIGINAL-URL:https://www.walkinroll.org
X-WR-CALDESC:Events for Walkin&#039; Roll Activities League, Inc.
REFRESH-INTERVAL;VALUE=DURATION:PT1H
X-Robots-Tag:noindex
X-PUBLISHED-TTL:PT1H
BEGIN:VTIMEZONE
TZID:America/New_York
BEGIN:DAYLIGHT
TZOFFSETFROM:-0500
TZOFFSETTO:-0400
TZNAME:EDT
DTSTART:20240310T070000
END:DAYLIGHT
BEGIN:STANDARD
TZOFFSETFROM:-0400
TZOFFSETTO:-0500
TZNAME:EST
DTSTART:20241103T060000
END:STANDARD
BEGIN:DAYLIGHT
TZOFFSETFROM:-0500
TZOFFSETTO:-0400
TZNAME:EDT
DTSTART:20250309T070000
END:DAYLIGHT
BEGIN:STANDARD
TZOFFSETFROM:-0400
TZOFFSETTO:-0500
TZNAME:EST
DTSTART:20251102T060000
END:STANDARD
BEGIN:DAYLIGHT
TZOFFSETFROM:-0500
TZOFFSETTO:-0400
TZNAME:EDT
DTSTART:20260308T070000
END:DAYLIGHT
BEGIN:STANDARD
TZOFFSETFROM:-0400
TZOFFSETTO:-0500
TZNAME:EST
DTSTART:20261101T060000
END:STANDARD
END:VTIMEZONE
BEGIN:VEVENT
DTSTART;TZID=America/New_York:20250404T180000
DTEND;TZID=America/New_York:20250404T200000
DTSTAMP:20260425T085759
CREATED:20250120T025337Z
LAST-MODIFIED:20250120T025337Z
UID:2900-1743789600-1743796800@www.walkinroll.org
SUMMARY:Game Night
DESCRIPTION:Join us for Game Night – Theme TBD\n\n  \nWatch our Facebook Group for updates regarding the theme and menu of each event.
URL:https://www.walkinroll.org/event/game-night-35/
LOCATION:Walkin’ Roll Activities Center\, 202 S Center Street\, Hildebran\, NC\, 28637\, United States
CATEGORIES:Walkin' Roll Events
END:VEVENT
BEGIN:VEVENT
DTSTART;TZID=America/New_York:20250405T100000
DTEND;TZID=America/New_York:20250405T120000
DTSTAMP:20260425T085759
CREATED:20250120T032408Z
LAST-MODIFIED:20250120T032408Z
UID:2948-1743847200-1743854400@www.walkinroll.org
SUMMARY:T-ball Game
DESCRIPTION:Regular Season Games will be played at Samuel Davis Field in the Ridgeview Community.\nAddress:  730 3rd St SW – Hickory\, NC 28602 OR click the Google Maps link in the post. \nPlease watch for changes due to inclement weather on our Facebook Group or Facebook Page. \n10am – 11am -Braves vs Rockies\n11am – 12 noon – Rangers vs Crawdads
URL:https://www.walkinroll.org/event/t-ball-game-21/
LOCATION:Samuel Davis Field\, 730 3rd St SW\, Hickory\, NC\, 28602\, United States
CATEGORIES:Walkin' Roll Events
END:VEVENT
BEGIN:VEVENT
DTSTART;TZID=America/New_York:20250405T140000
DTEND;TZID=America/New_York:20250405T160000
DTSTAMP:20260425T085759
CREATED:20250306T003136Z
LAST-MODIFIED:20250306T003136Z
UID:3004-1743861600-1743868800@www.walkinroll.org
SUMMARY:Gifts from the Heart - Easter Event (St. Mark's)
DESCRIPTION:
URL:https://www.walkinroll.org/event/gifts-from-the-heart-easter-event-st-marks/
LOCATION:St Mark’s Lutheran Church\, 3216 W Main St\, Claremont\, NC\, 28610
CATEGORIES:Community Events
END:VEVENT
BEGIN:VEVENT
DTSTART;TZID=America/New_York:20250412T100000
DTEND;TZID=America/New_York:20250412T120000
DTSTAMP:20260425T085759
CREATED:20250120T032438Z
LAST-MODIFIED:20250120T032438Z
UID:2950-1744452000-1744459200@www.walkinroll.org
SUMMARY:T-ball Game
DESCRIPTION:Regular Season Games will be played at Samuel Davis Field in the Ridgeview Community.\nAddress:  730 3rd St SW – Hickory\, NC 28602 OR click the Google Maps link in the post. \nPlease watch for changes due to inclement weather on our Facebook Group or Facebook Page. \n10am – 11am -Braves vs Rockies\n11am – 12 noon – Rangers vs Crawdads
URL:https://www.walkinroll.org/event/t-ball-game-22/
LOCATION:Samuel Davis Field\, 730 3rd St SW\, Hickory\, NC\, 28602\, United States
CATEGORIES:Walkin' Roll Events
END:VEVENT
BEGIN:VEVENT
DTSTART;TZID=America/New_York:20250418T180000
DTEND;TZID=America/New_York:20250418T200000
DTSTAMP:20260425T085759
CREATED:20250120T025428Z
LAST-MODIFIED:20250120T025429Z
UID:2902-1744999200-1745006400@www.walkinroll.org
SUMMARY:Game Night (Easter)
DESCRIPTION:Join us for Game Night – Easter\n\n  \nWatch our Facebook Group for updates regarding the theme and menu of each event.
URL:https://www.walkinroll.org/event/game-night-easter/
LOCATION:Walkin’ Roll Activities Center\, 202 S Center Street\, Hildebran\, NC\, 28637\, United States
CATEGORIES:Walkin' Roll Events
END:VEVENT
BEGIN:VEVENT
DTSTART;TZID=America/New_York:20250419T100000
DTEND;TZID=America/New_York:20250419T120000
DTSTAMP:20260425T085759
CREATED:20250120T031531Z
LAST-MODIFIED:20250120T031531Z
UID:2938-1745056800-1745064000@www.walkinroll.org
SUMMARY:T-ball Game - Easter Egg Hunt
DESCRIPTION:Easter Egg Hunt – Bring 2 dozen filled eggs – (no nuts in Easter eggs) \nYounger group hunts after their game and older group hunts after their game \n  \nRegular Season Games will be played at Samuel Davis Field in the Ridgeview Community.\nAddress:  730 3rd St SW – Hickory\, NC 28602 OR click the Google Maps link in the post. \nPlease watch for changes due to inclement weather on our Facebook Group or Facebook Page. \n10am – 11am -Braves vs Rockies\n11am – 12 noon – Rangers vs Crawdads
URL:https://www.walkinroll.org/event/t-ball-game-easter-egg-hunt/
LOCATION:Samuel Davis Field\, 730 3rd St SW\, Hickory\, NC\, 28602\, United States
CATEGORIES:Walkin' Roll Events
END:VEVENT
BEGIN:VEVENT
DTSTART;TZID=America/New_York:20250423T110000
DTEND;TZID=America/New_York:20250423T130000
DTSTAMP:20260425T085759
CREATED:20250306T005236Z
LAST-MODIFIED:20250306T005236Z
UID:3012-1745406000-1745413200@www.walkinroll.org
SUMMARY:Camp Create X (Limited to 30)
DESCRIPTION:
URL:https://www.walkinroll.org/event/camp-create-x-limited-to-30/
LOCATION:Walkin’ Roll Activities Center\, 202 S Center Street\, Hildebran\, NC\, 28637\, United States
CATEGORIES:Walkin' Roll Events
END:VEVENT
BEGIN:VEVENT
DTSTART;TZID=America/New_York:20250424T110000
DTEND;TZID=America/New_York:20250424T130000
DTSTAMP:20260425T085759
CREATED:20250306T005314Z
LAST-MODIFIED:20250306T005314Z
UID:3015-1745492400-1745499600@www.walkinroll.org
SUMMARY:Camp Create X (Limited to 30)
DESCRIPTION:
URL:https://www.walkinroll.org/event/camp-create-x-limited-to-30-2/
LOCATION:Walkin’ Roll Activities Center\, 202 S Center Street\, Hildebran\, NC\, 28637\, United States
CATEGORIES:Walkin' Roll Events
END:VEVENT
BEGIN:VEVENT
DTSTART;TZID=America/New_York:20250425T110000
DTEND;TZID=America/New_York:20250425T130000
DTSTAMP:20260425T085759
CREATED:20250306T005341Z
LAST-MODIFIED:20250306T005341Z
UID:3017-1745578800-1745586000@www.walkinroll.org
SUMMARY:Camp Create X (Limited to 30)
DESCRIPTION:
URL:https://www.walkinroll.org/event/camp-create-x-limited-to-30-3/
LOCATION:Walkin’ Roll Activities Center\, 202 S Center Street\, Hildebran\, NC\, 28637\, United States
CATEGORIES:Walkin' Roll Events
END:VEVENT
BEGIN:VEVENT
DTSTART;TZID=America/New_York:20250426T100000
DTEND;TZID=America/New_York:20250426T120000
DTSTAMP:20260425T085759
CREATED:20250120T032620Z
LAST-MODIFIED:20250120T032620Z
UID:2952-1745661600-1745668800@www.walkinroll.org
SUMMARY:T-ball Game
DESCRIPTION:Regular Season Games will be played at Samuel Davis Field in the Ridgeview Community.\nAddress:  730 3rd St SW – Hickory\, NC 28602 OR click the Google Maps link in the post. \nPlease watch for changes due to inclement weather on our Facebook Group or Facebook Page. \n10am – 11am -Braves vs Rockies\n11am – 12 noon – Rangers vs Crawdads
URL:https://www.walkinroll.org/event/t-ball-game-23/
LOCATION:Samuel Davis Field\, 730 3rd St SW\, Hickory\, NC\, 28602\, United States
CATEGORIES:Walkin' Roll Events
END:VEVENT
END:VCALENDAR