BEGIN:VCALENDAR
VERSION:2.0
PRODID:-//Walkin&#039; Roll Activities League, Inc. - ECPv6.15.20//NONSGML v1.0//EN
CALSCALE:GREGORIAN
METHOD:PUBLISH
X-ORIGINAL-URL:https://www.walkinroll.org
X-WR-CALDESC:Events for Walkin&#039; Roll Activities League, Inc.
REFRESH-INTERVAL;VALUE=DURATION:PT1H
X-Robots-Tag:noindex
X-PUBLISHED-TTL:PT1H
BEGIN:VTIMEZONE
TZID:America/New_York
BEGIN:DAYLIGHT
TZOFFSETFROM:-0500
TZOFFSETTO:-0400
TZNAME:EDT
DTSTART:20240310T070000
END:DAYLIGHT
BEGIN:STANDARD
TZOFFSETFROM:-0400
TZOFFSETTO:-0500
TZNAME:EST
DTSTART:20241103T060000
END:STANDARD
BEGIN:DAYLIGHT
TZOFFSETFROM:-0500
TZOFFSETTO:-0400
TZNAME:EDT
DTSTART:20250309T070000
END:DAYLIGHT
BEGIN:STANDARD
TZOFFSETFROM:-0400
TZOFFSETTO:-0500
TZNAME:EST
DTSTART:20251102T060000
END:STANDARD
BEGIN:DAYLIGHT
TZOFFSETFROM:-0500
TZOFFSETTO:-0400
TZNAME:EDT
DTSTART:20260308T070000
END:DAYLIGHT
BEGIN:STANDARD
TZOFFSETFROM:-0400
TZOFFSETTO:-0500
TZNAME:EST
DTSTART:20261101T060000
END:STANDARD
END:VTIMEZONE
BEGIN:VEVENT
DTSTART;TZID=America/New_York:20250307T180000
DTEND;TZID=America/New_York:20250307T200000
DTSTAMP:20260425T102241
CREATED:20250120T025105Z
LAST-MODIFIED:20250120T025105Z
UID:2896-1741370400-1741377600@www.walkinroll.org
SUMMARY:Game Night (St. Patrick’s Day)
DESCRIPTION:Join us for Game Night – St. Patrick’s Day\n\n  \nWatch our Facebook Group for updates regarding the theme and menu of each event.
URL:https://www.walkinroll.org/event/game-night-st-patricks-day/
LOCATION:Walkin’ Roll Activities Center\, 202 S Center Street\, Hildebran\, NC\, 28637\, United States
CATEGORIES:Walkin' Roll Events
END:VEVENT
BEGIN:VEVENT
DTSTART;TZID=America/New_York:20250308T070000
DTEND;TZID=America/New_York:20250308T130000
DTSTAMP:20260425T102241
CREATED:20250306T005707Z
LAST-MODIFIED:20250306T005707Z
UID:3019-1741417200-1741438800@www.walkinroll.org
SUMMARY:Walkin' Roll Yard Sale
DESCRIPTION:Come out and buy some items from our Yard Sale. Tell Your Friends! \nAll proceeds from the sale go directly back into our league to cover ongoing costs associated with Game Nights\, T-ball\, etc. \n  \n$5 Bag Sale!! – everything that you can fit in the bag is a total of $5
URL:https://www.walkinroll.org/event/walkin-roll-yard-sale-5/
LOCATION:Walkin’ Roll Activities Center\, 202 S Center Street\, Hildebran\, NC\, 28637\, United States
CATEGORIES:Walkin' Roll Events
END:VEVENT
BEGIN:VEVENT
DTSTART;TZID=America/New_York:20250315T100000
DTEND;TZID=America/New_York:20250315T120000
DTSTAMP:20260425T102241
CREATED:20250120T032134Z
LAST-MODIFIED:20250120T032134Z
UID:2942-1742032800-1742040000@www.walkinroll.org
SUMMARY:T-ball Game
DESCRIPTION:Regular Season Games will be played at Samuel Davis Field in the Ridgeview Community.\nAddress:  730 3rd St SW – Hickory\, NC 28602 OR click the Google Maps link in the post. \nPlease watch for changes due to inclement weather on our Facebook Group or Facebook Page. \n10am – 11am -Braves vs Rockies\n11am – 12 noon – Rangers vs Crawdads
URL:https://www.walkinroll.org/event/t-ball-game-18/
LOCATION:Samuel Davis Field\, 730 3rd St SW\, Hickory\, NC\, 28602\, United States
CATEGORIES:Walkin' Roll Events
END:VEVENT
BEGIN:VEVENT
DTSTART;TZID=America/New_York:20250321T180000
DTEND;TZID=America/New_York:20250321T200000
DTSTAMP:20260425T102241
CREATED:20250120T025140Z
LAST-MODIFIED:20250120T025140Z
UID:2898-1742580000-1742587200@www.walkinroll.org
SUMMARY:Game Night (Spring)
DESCRIPTION:Join us for Game Night – Spring\n\n  \nWatch our Facebook Group for updates regarding the theme and menu of each event.
URL:https://www.walkinroll.org/event/game-night-spring/
LOCATION:Walkin’ Roll Activities Center\, 202 S Center Street\, Hildebran\, NC\, 28637\, United States
CATEGORIES:Walkin' Roll Events
END:VEVENT
BEGIN:VEVENT
DTSTART;TZID=America/New_York:20250322T100000
DTEND;TZID=America/New_York:20250322T120000
DTSTAMP:20260425T102241
CREATED:20250120T032256Z
LAST-MODIFIED:20250120T032256Z
UID:2944-1742637600-1742644800@www.walkinroll.org
SUMMARY:T-ball Game
DESCRIPTION:Regular Season Games will be played at Samuel Davis Field in the Ridgeview Community.\nAddress:  730 3rd St SW – Hickory\, NC 28602 OR click the Google Maps link in the post. \nPlease watch for changes due to inclement weather on our Facebook Group or Facebook Page. \n10am – 11am -Braves vs Rockies\n11am – 12 noon – Rangers vs Crawdads
URL:https://www.walkinroll.org/event/t-ball-game-19/
LOCATION:Samuel Davis Field\, 730 3rd St SW\, Hickory\, NC\, 28602\, United States
CATEGORIES:Walkin' Roll Events
END:VEVENT
BEGIN:VEVENT
DTSTART;TZID=America/New_York:20250329T100000
DTEND;TZID=America/New_York:20250329T120000
DTSTAMP:20260425T102241
CREATED:20250120T032329Z
LAST-MODIFIED:20250120T032329Z
UID:2946-1743242400-1743249600@www.walkinroll.org
SUMMARY:T-ball Game
DESCRIPTION:Regular Season Games will be played at Samuel Davis Field in the Ridgeview Community.\nAddress:  730 3rd St SW – Hickory\, NC 28602 OR click the Google Maps link in the post. \nPlease watch for changes due to inclement weather on our Facebook Group or Facebook Page. \n10am – 11am -Braves vs Rockies\n11am – 12 noon – Rangers vs Crawdads
URL:https://www.walkinroll.org/event/t-ball-game-20/
LOCATION:Samuel Davis Field\, 730 3rd St SW\, Hickory\, NC\, 28602\, United States
CATEGORIES:Walkin' Roll Events
END:VEVENT
END:VCALENDAR