BEGIN:VCALENDAR
VERSION:2.0
PRODID:-//Walkin&#039; Roll Activities League, Inc. - ECPv6.15.20//NONSGML v1.0//EN
CALSCALE:GREGORIAN
METHOD:PUBLISH
X-WR-CALNAME:Walkin&#039; Roll Activities League, Inc.
X-ORIGINAL-URL:https://www.walkinroll.org
X-WR-CALDESC:Events for Walkin&#039; Roll Activities League, Inc.
REFRESH-INTERVAL;VALUE=DURATION:PT1H
X-Robots-Tag:noindex
X-PUBLISHED-TTL:PT1H
BEGIN:VTIMEZONE
TZID:America/New_York
BEGIN:DAYLIGHT
TZOFFSETFROM:-0500
TZOFFSETTO:-0400
TZNAME:EDT
DTSTART:20240310T070000
END:DAYLIGHT
BEGIN:STANDARD
TZOFFSETFROM:-0400
TZOFFSETTO:-0500
TZNAME:EST
DTSTART:20241103T060000
END:STANDARD
BEGIN:DAYLIGHT
TZOFFSETFROM:-0500
TZOFFSETTO:-0400
TZNAME:EDT
DTSTART:20250309T070000
END:DAYLIGHT
BEGIN:STANDARD
TZOFFSETFROM:-0400
TZOFFSETTO:-0500
TZNAME:EST
DTSTART:20251102T060000
END:STANDARD
BEGIN:DAYLIGHT
TZOFFSETFROM:-0500
TZOFFSETTO:-0400
TZNAME:EDT
DTSTART:20260308T070000
END:DAYLIGHT
BEGIN:STANDARD
TZOFFSETFROM:-0400
TZOFFSETTO:-0500
TZNAME:EST
DTSTART:20261101T060000
END:STANDARD
END:VTIMEZONE
BEGIN:VEVENT
DTSTART;TZID=America/New_York:20250208T180000
DTEND;TZID=America/New_York:20250208T200000
DTSTAMP:20260425T115452
CREATED:20250120T023637Z
LAST-MODIFIED:20250207T034248Z
UID:2881-1739037600-1739044800@www.walkinroll.org
SUMMARY:Game Night (Fun\, Frolic and Fashion – Walkin’ Roll Models)
DESCRIPTION:Join us for Game Night – Fun\, Frolic and Fashion – Walkin’ Roll Models\n\n  \nWatch our Facebook Group for updates regarding the theme and menu of each event.
URL:https://www.walkinroll.org/event/game-night-fun-frolic-and-fashion-walkin-roll-models/
LOCATION:Walkin’ Roll Activities Center\, 202 S Center Street\, Hildebran\, NC\, 28637\, United States
CATEGORIES:Walkin' Roll Events
END:VEVENT
BEGIN:VEVENT
DTSTART;TZID=America/New_York:20250221T180000
DTEND;TZID=America/New_York:20250221T200000
DTSTAMP:20260425T115452
CREATED:20250120T025007Z
LAST-MODIFIED:20250220T041014Z
UID:2894-1740160800-1740168000@www.walkinroll.org
SUMMARY:Game Night CANCELLED (Roses are Red\, Violets are Blue)
DESCRIPTION:***Due to the extreme cold weather and possibility of black ice on the roads\, we have Cancelled Game Night.****\n\n\nJoin us for Game Night – Roses are Red\, Violets are Blue.\n\n  \nWatch our Facebook Group for updates regarding the theme and menu of each event.
URL:https://www.walkinroll.org/event/game-night-cancelled-roses-are-red-violets-are-blue/
LOCATION:Walkin’ Roll Activities Center\, 202 S Center Street\, Hildebran\, NC\, 28637\, United States
CATEGORIES:Walkin' Roll Events
END:VEVENT
END:VCALENDAR