BEGIN:VCALENDAR
VERSION:2.0
PRODID:-//Walkin&#039; Roll Activities League, Inc. - ECPv6.15.20//NONSGML v1.0//EN
CALSCALE:GREGORIAN
METHOD:PUBLISH
X-WR-CALNAME:Walkin&#039; Roll Activities League, Inc.
X-ORIGINAL-URL:https://www.walkinroll.org
X-WR-CALDESC:Events for Walkin&#039; Roll Activities League, Inc.
REFRESH-INTERVAL;VALUE=DURATION:PT1H
X-Robots-Tag:noindex
X-PUBLISHED-TTL:PT1H
BEGIN:VTIMEZONE
TZID:America/New_York
BEGIN:DAYLIGHT
TZOFFSETFROM:-0500
TZOFFSETTO:-0400
TZNAME:EDT
DTSTART:20230312T070000
END:DAYLIGHT
BEGIN:STANDARD
TZOFFSETFROM:-0400
TZOFFSETTO:-0500
TZNAME:EST
DTSTART:20231105T060000
END:STANDARD
BEGIN:DAYLIGHT
TZOFFSETFROM:-0500
TZOFFSETTO:-0400
TZNAME:EDT
DTSTART:20240310T070000
END:DAYLIGHT
BEGIN:STANDARD
TZOFFSETFROM:-0400
TZOFFSETTO:-0500
TZNAME:EST
DTSTART:20241103T060000
END:STANDARD
BEGIN:DAYLIGHT
TZOFFSETFROM:-0500
TZOFFSETTO:-0400
TZNAME:EDT
DTSTART:20250309T070000
END:DAYLIGHT
BEGIN:STANDARD
TZOFFSETFROM:-0400
TZOFFSETTO:-0500
TZNAME:EST
DTSTART:20251102T060000
END:STANDARD
END:VTIMEZONE
BEGIN:VEVENT
DTSTART;TZID=America/New_York:20240705T180000
DTEND;TZID=America/New_York:20240705T200000
DTSTAMP:20260425T230024
CREATED:20240204T224352Z
LAST-MODIFIED:20240518T225957Z
UID:2274-1720202400-1720209600@www.walkinroll.org
SUMMARY:Game Night (Celebrating 4th of July)
DESCRIPTION:Join us for Game Night – Hot Dogs\, Watermelon\, Ice Cream \n\n\n\nCelebrating 4th of July with Flags and Sparklers\n\n\n\n\n\nWatch our Facebook Group for updates regarding the theme and menu of each event.
URL:https://www.walkinroll.org/event/game-night-9/
LOCATION:Walkin’ Roll Activities Center\, 202 S Center Street\, Hildebran\, NC\, 28637\, United States
CATEGORIES:Walkin' Roll Events
END:VEVENT
BEGIN:VEVENT
DTSTART;TZID=America/New_York:20240712T180000
DTEND;TZID=America/New_York:20240712T200000
DTSTAMP:20260425T230024
CREATED:20240519T212734Z
LAST-MODIFIED:20240519T212734Z
UID:2477-1720807200-1720814400@www.walkinroll.org
SUMMARY:Bible School (First Baptist Church of Hildebran)
DESCRIPTION:Beach Theme – Food provided \nSponsored by the First Baptist Church of Hildebran
URL:https://www.walkinroll.org/event/bible-school-first-baptist-church-of-hildebran/
LOCATION:FBC Hildebran\, 8831 Old N C Hwy 10\, Hildebran\, NC\, 28637\, United States
CATEGORIES:Community Events
END:VEVENT
BEGIN:VEVENT
DTSTART;TZID=America/New_York:20240713T080000
DTEND;TZID=America/New_York:20240713T140000
DTSTAMP:20260425T230024
CREATED:20240519T213014Z
LAST-MODIFIED:20240711T010506Z
UID:2480-1720857600-1720879200@www.walkinroll.org
SUMMARY:Walkin' Roll Yard Sale
DESCRIPTION:Come out and buy some items from our Yard Sale. Tell Your Friends! \nAll proceeds from the sale go directly back into our league to cover ongoing costs associated with Game Nights\, T-ball\, etc.
URL:https://www.walkinroll.org/event/walkin-roll-yard-sale-4/
LOCATION:Walkin’ Roll Activities Center\, 202 S Center Street\, Hildebran\, NC\, 28637\, United States
CATEGORIES:Walkin' Roll Events
END:VEVENT
BEGIN:VEVENT
DTSTART;TZID=America/New_York:20240719T180000
DTEND;TZID=America/New_York:20240719T200000
DTSTAMP:20260425T230024
CREATED:20240204T224407Z
LAST-MODIFIED:20240519T235642Z
UID:2276-1721412000-1721419200@www.walkinroll.org
SUMMARY:Game Night (Pasta Night)
DESCRIPTION:Join us for Game Night – Pasta Night \n\n\n\nSpaghetti\, pasta salads\, etc\n\n\n\n\n\nWatch our Facebook Group for updates regarding the theme and menu of each event.
URL:https://www.walkinroll.org/event/game-night-10/
LOCATION:Walkin’ Roll Activities Center\, 202 S Center Street\, Hildebran\, NC\, 28637\, United States
CATEGORIES:Walkin' Roll Events
END:VEVENT
END:VCALENDAR