BEGIN:VCALENDAR
VERSION:2.0
PRODID:-//Walkin&#039; Roll Activities League, Inc. - ECPv6.15.20//NONSGML v1.0//EN
CALSCALE:GREGORIAN
METHOD:PUBLISH
X-WR-CALNAME:Walkin&#039; Roll Activities League, Inc.
X-ORIGINAL-URL:https://www.walkinroll.org
X-WR-CALDESC:Events for Walkin&#039; Roll Activities League, Inc.
REFRESH-INTERVAL;VALUE=DURATION:PT1H
X-Robots-Tag:noindex
X-PUBLISHED-TTL:PT1H
BEGIN:VTIMEZONE
TZID:America/New_York
BEGIN:DAYLIGHT
TZOFFSETFROM:-0500
TZOFFSETTO:-0400
TZNAME:EDT
DTSTART:20220313T070000
END:DAYLIGHT
BEGIN:STANDARD
TZOFFSETFROM:-0400
TZOFFSETTO:-0500
TZNAME:EST
DTSTART:20221106T060000
END:STANDARD
BEGIN:DAYLIGHT
TZOFFSETFROM:-0500
TZOFFSETTO:-0400
TZNAME:EDT
DTSTART:20230312T070000
END:DAYLIGHT
BEGIN:STANDARD
TZOFFSETFROM:-0400
TZOFFSETTO:-0500
TZNAME:EST
DTSTART:20231105T060000
END:STANDARD
BEGIN:DAYLIGHT
TZOFFSETFROM:-0500
TZOFFSETTO:-0400
TZNAME:EDT
DTSTART:20240310T070000
END:DAYLIGHT
BEGIN:STANDARD
TZOFFSETFROM:-0400
TZOFFSETTO:-0500
TZNAME:EST
DTSTART:20241103T060000
END:STANDARD
BEGIN:DAYLIGHT
TZOFFSETFROM:-0500
TZOFFSETTO:-0400
TZNAME:EDT
DTSTART:20250309T070000
END:DAYLIGHT
BEGIN:STANDARD
TZOFFSETFROM:-0400
TZOFFSETTO:-0500
TZNAME:EST
DTSTART:20251102T060000
END:STANDARD
END:VTIMEZONE
BEGIN:VEVENT
DTSTART;VALUE=DATE:20240419
DTEND;VALUE=DATE:20240421
DTSTAMP:20260425T065513
CREATED:20250120T031857Z
LAST-MODIFIED:20250120T031857Z
UID:2940-1713567600-1713653999@www.walkinroll.org
SUMMARY:EASTER
DESCRIPTION:HAPPY EASTER!!
URL:https://www.walkinroll.org/event/easter-2/
LOCATION:NC
END:VEVENT
BEGIN:VEVENT
DTSTART;TZID=America/New_York:20240419T180000
DTEND;TZID=America/New_York:20240419T200000
DTSTAMP:20260425T065513
CREATED:20240204T224231Z
LAST-MODIFIED:20240418T012121Z
UID:2264-1713549600-1713556800@www.walkinroll.org
SUMMARY:Game Night
DESCRIPTION:Join us for Game Night – Bring Picnic type food to share.\n\n\n\n  \nWatch our Facebook Group for updates regarding the theme and menu of each event.
URL:https://www.walkinroll.org/event/game-night-4/
LOCATION:Walkin’ Roll Activities Center\, 202 S Center Street\, Hildebran\, NC\, 28637\, United States
CATEGORIES:Walkin' Roll Events
END:VEVENT
BEGIN:VEVENT
DTSTART;TZID=America/New_York:20240413T100000
DTEND;TZID=America/New_York:20240413T120000
DTSTAMP:20260425T065513
CREATED:20240204T221321Z
LAST-MODIFIED:20240204T221321Z
UID:2231-1713002400-1713009600@www.walkinroll.org
SUMMARY:T-ball Game
DESCRIPTION:Regular Season Games will be played at Samuel Davis Field in the Ridgeview Community.\nAddress:  730 3rd St SW – Hickory\, NC 28602 OR click the Google Maps link in the post. \nPlease watch for changes due to inclement weather on our Facebook Group or Facebook Page. \n10am – 11am -Braves vs Rockies\n11am – 12 noon – Rangers vs Crawdads
URL:https://www.walkinroll.org/event/t-ball-game-13/
LOCATION:Samuel Davis Field\, 730 3rd St SW\, Hickory\, NC\, 28602\, United States
CATEGORIES:Walkin' Roll Events
END:VEVENT
BEGIN:VEVENT
DTSTART;TZID=America/New_York:20240406T100000
DTEND;TZID=America/New_York:20240406T120000
DTSTAMP:20260425T065513
CREATED:20240204T221304Z
LAST-MODIFIED:20240204T221304Z
UID:2229-1712397600-1712404800@www.walkinroll.org
SUMMARY:T-ball Game
DESCRIPTION:Regular Season Games will be played at Samuel Davis Field in the Ridgeview Community.\nAddress:  730 3rd St SW – Hickory\, NC 28602 OR click the Google Maps link in the post. \nPlease watch for changes due to inclement weather on our Facebook Group or Facebook Page. \n10am – 11am -Braves vs Rockies\n11am – 12 noon – Rangers vs Crawdads
URL:https://www.walkinroll.org/event/t-ball-game-12/
LOCATION:Samuel Davis Field\, 730 3rd St SW\, Hickory\, NC\, 28602\, United States
CATEGORIES:Walkin' Roll Events
END:VEVENT
BEGIN:VEVENT
DTSTART;TZID=America/New_York:20240405T180000
DTEND;TZID=America/New_York:20240405T200000
DTSTAMP:20260425T065513
CREATED:20240204T224213Z
LAST-MODIFIED:20240307T043406Z
UID:2262-1712340000-1712347200@www.walkinroll.org
SUMMARY:Game Night
DESCRIPTION:Join us for Game Night – Theme to be determined\n\n  \nWatch our Facebook Group for updates regarding the theme and menu of each event.
URL:https://www.walkinroll.org/event/game-night-3/
LOCATION:Walkin’ Roll Activities Center\, 202 S Center Street\, Hildebran\, NC\, 28637\, United States
CATEGORIES:Walkin' Roll Events
END:VEVENT
BEGIN:VEVENT
DTSTART;VALUE=DATE:20240330
DTEND;VALUE=DATE:20240401
DTSTAMP:20260425T065513
CREATED:20240224T042109Z
LAST-MODIFIED:20240224T042121Z
UID:2311-1711839600-1711925999@www.walkinroll.org
SUMMARY:EASTER
DESCRIPTION:HAPPY EASTER!!
URL:https://www.walkinroll.org/event/easter/
LOCATION:NC
END:VEVENT
BEGIN:VEVENT
DTSTART;TZID=America/New_York:20240330T100000
DTEND;TZID=America/New_York:20240330T120000
DTSTAMP:20260425T065513
CREATED:20240204T220923Z
LAST-MODIFIED:20240224T041352Z
UID:2225-1711792800-1711800000@www.walkinroll.org
SUMMARY:T-ball Game (Rain Date for Easter Egg Hunt)
DESCRIPTION:Easter Egg Hunt (In case of rain on March 23rd) — please bring 2 dozen eggs with goodies inside. \nRegular Season Games will be played at Samuel Davis Field in the Ridgeview Community.\nAddress:  730 3rd St SW – Hickory\, NC 28602 OR click the Google Maps link in the post. \nPlease watch for changes due to inclement weather on our Facebook Group or Facebook Page. \n10am – 11am -Braves vs Rockies\n11am – 12 noon – Rangers vs Crawdads
URL:https://www.walkinroll.org/event/easter-egg-hunt-t-ball-game-2/
LOCATION:Samuel Davis Field\, 730 3rd St SW\, Hickory\, NC\, 28602\, United States
CATEGORIES:Walkin' Roll Events
END:VEVENT
BEGIN:VEVENT
DTSTART;TZID=America/New_York:20240329T180000
DTEND;TZID=America/New_York:20240329T200000
DTSTAMP:20260425T065513
CREATED:20240224T041206Z
LAST-MODIFIED:20240307T042748Z
UID:2304-1711735200-1711742400@www.walkinroll.org
SUMMARY:Game Night - Easter Dinner/Egg Hunt
DESCRIPTION:Join us for Game Night – Easter dinner – Easter Egg Hunt- bring 2 dozen filled eggs–\n\n  \nWatch our Facebook Group for updates regarding the theme and menu of each event.
URL:https://www.walkinroll.org/event/game-night-easter-dinner-egg-hunt/
LOCATION:Walkin’ Roll Activities Center\, 202 S Center Street\, Hildebran\, NC\, 28637\, United States
CATEGORIES:Walkin' Roll Events
END:VEVENT
BEGIN:VEVENT
DTSTART;TZID=America/New_York:20240323T133000
DTEND;TZID=America/New_York:20240323T143000
DTSTAMP:20260425T065513
CREATED:20240224T041849Z
LAST-MODIFIED:20240224T041858Z
UID:2308-1711200600-1711204200@www.walkinroll.org
SUMMARY:Town of Hildebran Easter Egg Hunt
DESCRIPTION:
URL:https://www.walkinroll.org/event/town-of-hildebran-easter-egg-hunt/
LOCATION:Hildebran Park\, 114 Main Ave E\, Hildebran\, NC\, 28637\, United States
CATEGORIES:Town of Hildebran
END:VEVENT
BEGIN:VEVENT
DTSTART;TZID=America/New_York:20240323T100000
DTEND;TZID=America/New_York:20240323T120000
DTSTAMP:20260425T065513
CREATED:20240204T220354Z
LAST-MODIFIED:20240322T233330Z
UID:2223-1711188000-1711195200@www.walkinroll.org
SUMMARY:T-ball Game (CANCELLED) - Easter Egg Hunt
DESCRIPTION:Games have been cancelled. We will have the Egg Hunt on the day we play our first game. \n  \nEaster Egg Hunt – Bring 2 dozen filled eggs \nYounger group hunts after their game and older group hunts after their game \n  \nRegular Season Games will be played at Samuel Davis Field in the Ridgeview Community.\nAddress:  730 3rd St SW – Hickory\, NC 28602 OR click the Google Maps link in the post. \nPlease watch for changes due to inclement weather on our Facebook Group or Facebook Page. \n10am – 11am -Braves vs Rockies\n11am – 12 noon – Rangers vs Crawdads
URL:https://www.walkinroll.org/event/t-ball-game-11/
LOCATION:Samuel Davis Field\, 730 3rd St SW\, Hickory\, NC\, 28602\, United States
CATEGORIES:Walkin' Roll Events
END:VEVENT
BEGIN:VEVENT
DTSTART;TZID=America/New_York:20240316T100000
DTEND;TZID=America/New_York:20240316T120000
DTSTAMP:20260425T065513
CREATED:20240204T215212Z
LAST-MODIFIED:20240315T173412Z
UID:2217-1710583200-1710590400@www.walkinroll.org
SUMMARY:T-ball Game (CANCELLED)
DESCRIPTION:***T-BALL CANCELLED*** DUE TO RAIN \n  \nRegular Season Games will be played at Samuel Davis Field in the Ridgeview Community.\nAddress:  730 3rd St SW – Hickory\, NC 28602 OR click the Google Maps link in the post. \nPlease watch for changes due to inclement weather on our Facebook Group or Facebook Page. \n10am – 11am -Braves vs Rockies\n11am – 12 noon – Rangers vs Crawdads
URL:https://www.walkinroll.org/event/t-ball-game-10/
LOCATION:Samuel Davis Field\, 730 3rd St SW\, Hickory\, NC\, 28602\, United States
CATEGORIES:Walkin' Roll Events
END:VEVENT
BEGIN:VEVENT
DTSTART;TZID=America/New_York:20240315T180000
DTEND;TZID=America/New_York:20240315T200000
DTSTAMP:20260425T065513
CREATED:20240204T224142Z
LAST-MODIFIED:20240307T052631Z
UID:2260-1710525600-1710532800@www.walkinroll.org
SUMMARY:Game Night - St Patrick's Day
DESCRIPTION:Join us for Game Night – Be sure to wear something green – St Patrick’s Day Activities\n\n  \nWatch our Facebook Group for updates regarding the theme and menu of each event.
URL:https://www.walkinroll.org/event/game-night-2/
LOCATION:Walkin’ Roll Activities Center\, 202 S Center Street\, Hildebran\, NC\, 28637\, United States
CATEGORIES:Walkin' Roll Events
END:VEVENT
BEGIN:VEVENT
DTSTART;TZID=America/New_York:20240309T080000
DTEND;TZID=America/New_York:20240309T140000
DTSTAMP:20260425T065513
CREATED:20240224T043912Z
LAST-MODIFIED:20240307T052444Z
UID:2321-1709971200-1709992800@www.walkinroll.org
SUMMARY:Walkin' Roll Yard Sale
DESCRIPTION:Come out and buy some items from our Yard Sale. Tell Your Friends! \nAll proceeds from the sale go directly back into our league to cover ongoing costs associated with Game Nights\, T-ball\, etc.
URL:https://www.walkinroll.org/event/walkin-roll-yard-sale-3/
LOCATION:Walkin’ Roll Activities Center\, 202 S Center Street\, Hildebran\, NC\, 28637\, United States
CATEGORIES:Walkin' Roll Events
END:VEVENT
BEGIN:VEVENT
DTSTART;TZID=America/New_York:20240308T180000
DTEND;TZID=America/New_York:20240308T200000
DTSTAMP:20260425T065513
CREATED:20240224T044215Z
LAST-MODIFIED:20240307T052318Z
UID:2323-1709920800-1709928000@www.walkinroll.org
SUMMARY:Yard Sale Setup Night & Pre-Sale
DESCRIPTION:We will be setting up tables with items for the Yard Sale that will take place the following day. Saturday\, March 9th. \nIn addition to the yard sale setup\, we will have a Pre-Sale for those in attendance for the Setup.
URL:https://www.walkinroll.org/event/yard-sale-setup-night-pre-sale/
LOCATION:Walkin’ Roll Activities Center\, 202 S Center Street\, Hildebran\, NC\, 28637\, United States
CATEGORIES:Walkin' Roll Events
END:VEVENT
BEGIN:VEVENT
DTSTART;TZID=America/New_York:20240301T170000
DTEND;TZID=America/New_York:20240301T190000
DTSTAMP:20260425T065513
CREATED:20240204T223554Z
LAST-MODIFIED:20240224T040553Z
UID:2254-1709312400-1709319600@www.walkinroll.org
SUMMARY:Game Night - Art Activities
DESCRIPTION:Join us for Game Night – Jenny Cody- Hickory Museum of Art will provide activities\n\n  \nWatch our Facebook Group for updates regarding the theme and menu of each event.
URL:https://www.walkinroll.org/event/game-night/
LOCATION:Walkin’ Roll Activities Center\, 202 S Center Street\, Hildebran\, NC\, 28637\, United States
CATEGORIES:Walkin' Roll Events
END:VEVENT
BEGIN:VEVENT
DTSTART;TZID=America/New_York:20240216T170000
DTEND;TZID=America/New_York:20240216T190000
DTSTAMP:20260425T065513
CREATED:20240204T222055Z
LAST-MODIFIED:20240204T222859Z
UID:2246-1708102800-1708110000@www.walkinroll.org
SUMMARY:Valentine's Dance
DESCRIPTION:Come and join us for fun\, dancing\, fellowship and food at our Valentine’s Dance.\n\n\nAll 1st and 3rd Friday Game Night events are held at The Walkin’ Roll Activities Center unless otherwise noted. \n\n\nWatch our Facebook Group for updates regarding the theme and menu of each event. \n 
URL:https://www.walkinroll.org/event/valentines-dance/
LOCATION:Walkin’ Roll Activities Center\, 202 S Center Street\, Hildebran\, NC\, 28637\, United States
CATEGORIES:Walkin' Roll Events
END:VEVENT
BEGIN:VEVENT
DTSTART;TZID=America/New_York:20231215T170000
DTEND;TZID=America/New_York:20231215T190000
DTSTAMP:20260425T065513
CREATED:20230102T022310Z
LAST-MODIFIED:20231002T021943Z
UID:1637-1702659600-1702666800@www.walkinroll.org
SUMMARY:Game Night and Christmas Party
DESCRIPTION:Join us for our Game Night and Christmas Party.\n\n  \nWatch our Facebook Group for updates regarding the theme and menu of each event.
URL:https://www.walkinroll.org/event/game-night-121523/
LOCATION:Walkin’ Roll Activities Center\, 202 S Center Street\, Hildebran\, NC\, 28637\, United States
CATEGORIES:Walkin' Roll Events
END:VEVENT
BEGIN:VEVENT
DTSTART;TZID=America/New_York:20231202T130000
DTEND;TZID=America/New_York:20231202T150000
DTSTAMP:20260425T065513
CREATED:20230807T034459Z
LAST-MODIFIED:20231002T021902Z
UID:2077-1701522000-1701529200@www.walkinroll.org
SUMMARY:Hildebran Christmas Parade
DESCRIPTION:Other details will be shared as they become available.
URL:https://www.walkinroll.org/event/hildebran-christmas-parade/
LOCATION:NC
CATEGORIES:Town of Hildebran
END:VEVENT
BEGIN:VEVENT
DTSTART;TZID=America/New_York:20231201T170000
DTEND;TZID=America/New_York:20231201T190000
DTSTAMP:20260425T065513
CREATED:20230102T022250Z
LAST-MODIFIED:20231002T021755Z
UID:1635-1701450000-1701457200@www.walkinroll.org
SUMMARY:Game Night / Birthday celebration for Mary and Zach Garren
DESCRIPTION:Join us for Game Night as we celebrate a Birthday for Mary and Zach Garren.\n\n  \nWatch our Facebook Group for updates regarding the theme and menu of each event.
URL:https://www.walkinroll.org/event/game-night-120123/
LOCATION:Walkin’ Roll Activities Center\, 202 S Center Street\, Hildebran\, NC\, 28637\, United States
CATEGORIES:Walkin' Roll Events
END:VEVENT
BEGIN:VEVENT
DTSTART;TZID=America/New_York:20231117T170000
DTEND;TZID=America/New_York:20231117T190000
DTSTAMP:20260425T065513
CREATED:20230102T022234Z
LAST-MODIFIED:20230807T014649Z
UID:1633-1700240400-1700247600@www.walkinroll.org
SUMMARY:Thanksgiving Meal
DESCRIPTION:Join us for a Thanksgiving Meal.\n\n  \nWatch our Facebook Group for updates regarding the theme and menu of each event.
URL:https://www.walkinroll.org/event/game-night-111723/
LOCATION:Walkin’ Roll Activities Center\, 202 S Center Street\, Hildebran\, NC\, 28637\, United States
CATEGORIES:Walkin' Roll Events
END:VEVENT
BEGIN:VEVENT
DTSTART;TZID=America/New_York:20231104T090000
DTEND;TZID=America/New_York:20231104T130000
DTSTAMP:20260425T065513
CREATED:20231002T021652Z
LAST-MODIFIED:20231002T021652Z
UID:2182-1699088400-1699102800@www.walkinroll.org
SUMMARY:Christmas Yard Sale
DESCRIPTION:Christmas Yard Sale at Walkin’ Roll Activities Center
URL:https://www.walkinroll.org/event/christmas-yard-sale/
LOCATION:Walkin’ Roll Activities Center\, 202 S Center Street\, Hildebran\, NC\, 28637\, United States
CATEGORIES:Walkin' Roll Events
END:VEVENT
BEGIN:VEVENT
DTSTART;TZID=America/New_York:20231103T170000
DTEND;TZID=America/New_York:20231103T190000
DTSTAMP:20260425T065513
CREATED:20230102T022209Z
LAST-MODIFIED:20231002T021506Z
UID:1631-1699030800-1699038000@www.walkinroll.org
SUMMARY:Game Night / Preview Yard Sale Items
DESCRIPTION:Join us for Game Night – Also get a Preview of Yard Sale Items\n\nChristmas Yard Sale is Sat Nov 4th @ 10am – 2pm\n\nWatch our Facebook Group for updates regarding the theme and menu of each event.
URL:https://www.walkinroll.org/event/game-night-110323/
LOCATION:Walkin’ Roll Activities Center\, 202 S Center Street\, Hildebran\, NC\, 28637\, United States
CATEGORIES:Walkin' Roll Events
END:VEVENT
BEGIN:VEVENT
DTSTART;TZID=America/New_York:20231031T160000
DTEND;TZID=America/New_York:20231031T180000
DTSTAMP:20260425T065513
CREATED:20231002T021300Z
LAST-MODIFIED:20231002T021300Z
UID:2177-1698768000-1698775200@www.walkinroll.org
SUMMARY:Trunk or Treat @ Longview Recreation Center
DESCRIPTION:
URL:https://www.walkinroll.org/event/trunk-or-treat-longview-recreation-center/
LOCATION:Longview Recreation Center\, 3107 2nd Ave NW\, Hickory\, NC\, 28602\, United States
CATEGORIES:Town of Longview
END:VEVENT
BEGIN:VEVENT
DTSTART;TZID=America/New_York:20231029T170000
DTEND;TZID=America/New_York:20231029T190000
DTSTAMP:20260425T065513
CREATED:20231002T020758Z
LAST-MODIFIED:20231002T020838Z
UID:2174-1698598800-1698606000@www.walkinroll.org
SUMMARY:Trunk or Treat @ Mt. Hebron Lutheran Church
DESCRIPTION:Trunk or Treat \n6:00 Mt. Hebron Lutheran Church – Hildebran \n                                       
URL:https://www.walkinroll.org/event/trunk-or-treat-mt-hebron-lutheran-church/
LOCATION:Mt. Hebron Church – Hildebran\, 103 Main Ave E\, Hildebran\, NC\, 28637\, United States
CATEGORIES:Mt. Hebron Church - Hildebran
END:VEVENT
BEGIN:VEVENT
DTSTART;TZID=America/New_York:20231028T140000
DTEND;TZID=America/New_York:20231028T160000
DTSTAMP:20260425T065513
CREATED:20230807T034147Z
LAST-MODIFIED:20231002T022921Z
UID:2073-1698501600-1698508800@www.walkinroll.org
SUMMARY:2nd Annual Hope and Abilities Carnival
DESCRIPTION:
URL:https://www.walkinroll.org/event/2nd-annual-hope-and-abilities-carnival/
LOCATION:Walkin’ Roll Activities Center\, 202 S Center Street\, Hildebran\, NC\, 28637\, United States
CATEGORIES:Family Support Network / HOPE,Walkin' Roll Events
ORGANIZER;CN="FSN Hope":MAILTO:vickiedieter@fsnhope.org
END:VEVENT
BEGIN:VEVENT
DTSTART;TZID=America/New_York:20231025T173000
DTEND;TZID=America/New_York:20231025T193000
DTSTAMP:20260425T065513
CREATED:20231002T020205Z
LAST-MODIFIED:20231004T004910Z
UID:2170-1698255000-1698262200@www.walkinroll.org
SUMMARY:Hickory Elks - Halloween Dance
DESCRIPTION:6:30 to 8:30 – Hickory Elks- Halloween Dance
URL:https://www.walkinroll.org/event/hickory-elks-halloween-dance/
LOCATION:Hickory Elks Lodge\, 356 Main Ave NW\, Hickory\, NC\, 28601\, United States
CATEGORIES:Hickory Elks Lodge
END:VEVENT
BEGIN:VEVENT
DTSTART;TZID=America/New_York:20231020T170000
DTEND;TZID=America/New_York:20231020T190000
DTSTAMP:20260425T065513
CREATED:20230102T022054Z
LAST-MODIFIED:20231002T020010Z
UID:1627-1697821200-1697828400@www.walkinroll.org
SUMMARY:Game Night / A Night with Elvis
DESCRIPTION:Join us A Night with Elvis – Menu will be sandwiches\n\nDress in your favorite color. Costumes Welcome\n\n  \nWatch our Facebook Group for updates regarding the theme and menu of each event.
URL:https://www.walkinroll.org/event/game-night-102023/
LOCATION:Walkin’ Roll Activities Center\, 202 S Center Street\, Hildebran\, NC\, 28637\, United States
CATEGORIES:Walkin' Roll Events
END:VEVENT
BEGIN:VEVENT
DTSTART;TZID=America/New_York:20231019T160000
DTEND;TZID=America/New_York:20231019T180000
DTSTAMP:20260425T065513
CREATED:20231002T015901Z
LAST-MODIFIED:20231002T015901Z
UID:2166-1697731200-1697738400@www.walkinroll.org
SUMMARY:Hildebran Library – Fall Festival
DESCRIPTION:Hildebran Library – Fall Festival – 5-7 PM                                                            
URL:https://www.walkinroll.org/event/hildebran-library-fall-festival/
LOCATION:CB Hildebrand Library\, 101B Old State Hwy 10 W\, Hildebran\, NC\, 28637\, United States
CATEGORIES:C.B. Hildebrand Public Library
END:VEVENT
BEGIN:VEVENT
DTSTART;TZID=America/New_York:20231014T120000
DTEND;TZID=America/New_York:20231014T160000
DTSTAMP:20260425T065513
CREATED:20230807T031725Z
LAST-MODIFIED:20231002T014925Z
UID:2070-1697284800-1697299200@www.walkinroll.org
SUMMARY:Meadow Ridge Baptist Fall Fellowship Festival
DESCRIPTION:12 to 4 – Fall Fellowship Festival –food and fun \nMaiden – Meadow Ridge Baptist Church
URL:https://www.walkinroll.org/event/meadow-ridge-baptist-church-festival/
LOCATION:Meadow Ridge Baptist Church\, 1173 Zeb Haynes Rd\, Maiden\, NC\, 28650\, United States
CATEGORIES:Meadow Ridge Baptist Church
END:VEVENT
BEGIN:VEVENT
DTSTART;TZID=America/New_York:20231007T093000
DTEND;TZID=America/New_York:20231007T110000
DTSTAMP:20260425T065513
CREATED:20231002T014711Z
LAST-MODIFIED:20231002T014711Z
UID:2162-1696671000-1696676400@www.walkinroll.org
SUMMARY:Blessing of the Animals (real or stuffed)
DESCRIPTION:Blessing of the Animals (real or stuffed)  \nMt. Hebron Church -Hildebran at 10:30  AM
URL:https://www.walkinroll.org/event/blessing-of-the-animals-real-or-stuffed/
LOCATION:Mt. Hebron Church – Hildebran\, 103 Main Ave E\, Hildebran\, NC\, 28637\, United States
CATEGORIES:Mt. Hebron Church - Hildebran
END:VEVENT
END:VCALENDAR