BEGIN:VCALENDAR
VERSION:2.0
PRODID:-//Walkin&#039; Roll Activities League, Inc. - ECPv6.15.20//NONSGML v1.0//EN
CALSCALE:GREGORIAN
METHOD:PUBLISH
X-WR-CALNAME:Walkin&#039; Roll Activities League, Inc.
X-ORIGINAL-URL:https://www.walkinroll.org
X-WR-CALDESC:Events for Walkin&#039; Roll Activities League, Inc.
REFRESH-INTERVAL;VALUE=DURATION:PT1H
X-Robots-Tag:noindex
X-PUBLISHED-TTL:PT1H
BEGIN:VTIMEZONE
TZID:America/New_York
BEGIN:DAYLIGHT
TZOFFSETFROM:-0500
TZOFFSETTO:-0400
TZNAME:EDT
DTSTART:20230312T070000
END:DAYLIGHT
BEGIN:STANDARD
TZOFFSETFROM:-0400
TZOFFSETTO:-0500
TZNAME:EST
DTSTART:20231105T060000
END:STANDARD
BEGIN:DAYLIGHT
TZOFFSETFROM:-0500
TZOFFSETTO:-0400
TZNAME:EDT
DTSTART:20240310T070000
END:DAYLIGHT
BEGIN:STANDARD
TZOFFSETFROM:-0400
TZOFFSETTO:-0500
TZNAME:EST
DTSTART:20241103T060000
END:STANDARD
BEGIN:DAYLIGHT
TZOFFSETFROM:-0500
TZOFFSETTO:-0400
TZNAME:EDT
DTSTART:20250309T070000
END:DAYLIGHT
BEGIN:STANDARD
TZOFFSETFROM:-0400
TZOFFSETTO:-0500
TZNAME:EST
DTSTART:20251102T060000
END:STANDARD
BEGIN:DAYLIGHT
TZOFFSETFROM:-0500
TZOFFSETTO:-0400
TZNAME:EDT
DTSTART:20260308T070000
END:DAYLIGHT
BEGIN:STANDARD
TZOFFSETFROM:-0400
TZOFFSETTO:-0500
TZNAME:EST
DTSTART:20261101T060000
END:STANDARD
END:VTIMEZONE
BEGIN:VEVENT
DTSTART;TZID=America/New_York:20250221T180000
DTEND;TZID=America/New_York:20250221T200000
DTSTAMP:20260425T102823
CREATED:20250120T025007Z
LAST-MODIFIED:20250220T041014Z
UID:2894-1740160800-1740168000@www.walkinroll.org
SUMMARY:Game Night CANCELLED (Roses are Red\, Violets are Blue)
DESCRIPTION:***Due to the extreme cold weather and possibility of black ice on the roads\, we have Cancelled Game Night.****\n\n\nJoin us for Game Night – Roses are Red\, Violets are Blue.\n\n  \nWatch our Facebook Group for updates regarding the theme and menu of each event.
URL:https://www.walkinroll.org/event/game-night-cancelled-roses-are-red-violets-are-blue/
LOCATION:Walkin’ Roll Activities Center\, 202 S Center Street\, Hildebran\, NC\, 28637\, United States
CATEGORIES:Walkin' Roll Events
END:VEVENT
BEGIN:VEVENT
DTSTART;TZID=America/New_York:20250208T180000
DTEND;TZID=America/New_York:20250208T200000
DTSTAMP:20260425T102823
CREATED:20250120T023637Z
LAST-MODIFIED:20250207T034248Z
UID:2881-1739037600-1739044800@www.walkinroll.org
SUMMARY:Game Night (Fun\, Frolic and Fashion – Walkin’ Roll Models)
DESCRIPTION:Join us for Game Night – Fun\, Frolic and Fashion – Walkin’ Roll Models\n\n  \nWatch our Facebook Group for updates regarding the theme and menu of each event.
URL:https://www.walkinroll.org/event/game-night-fun-frolic-and-fashion-walkin-roll-models/
LOCATION:Walkin’ Roll Activities Center\, 202 S Center Street\, Hildebran\, NC\, 28637\, United States
CATEGORIES:Walkin' Roll Events
END:VEVENT
BEGIN:VEVENT
DTSTART;TZID=America/New_York:20241220T180000
DTEND;TZID=America/New_York:20241220T200000
DTSTAMP:20260425T102823
CREATED:20240204T224642Z
LAST-MODIFIED:20240825T233114Z
UID:2296-1734717600-1734724800@www.walkinroll.org
SUMMARY:Game Night (Christmas Dinner)
DESCRIPTION:Join us for Game Night – Christmas Dinner\n\n  \nWatch our Facebook Group for updates regarding the theme and menu of each event.
URL:https://www.walkinroll.org/event/game-night-34/
LOCATION:Walkin’ Roll Activities Center\, 202 S Center Street\, Hildebran\, NC\, 28637\, United States
CATEGORIES:Walkin' Roll Events
END:VEVENT
BEGIN:VEVENT
DTSTART;TZID=America/New_York:20241208T110000
DTEND;TZID=America/New_York:20241208T123000
DTSTAMP:20260425T102823
CREATED:20240825T015908Z
LAST-MODIFIED:20240825T020416Z
UID:2564-1733655600-1733661000@www.walkinroll.org
SUMMARY:Christmas Contata (Meadow Ridge Church)
DESCRIPTION:Come on out to support our choir when they perform their Christmas Cantata at Meadow Ridge Church in Maiden on Sunday\, Dec 8th\, 2024 at 11am. \nThe Choir will be performing songs that they have learned in Choir Practices that took place on Wednesdays from September through November.
URL:https://www.walkinroll.org/event/christmas-contata-meadow-ridge-church/
LOCATION:Meadow Ridge Baptist Church\, 1173 Zeb Haynes Rd\, Maiden\, NC\, 28650\, United States
CATEGORIES:Walkin' Roll Events
END:VEVENT
BEGIN:VEVENT
DTSTART;TZID=America/New_York:20241207T130000
DTEND;TZID=America/New_York:20241207T150000
DTSTAMP:20260425T102823
CREATED:20240825T233648Z
LAST-MODIFIED:20240825T233726Z
UID:2593-1733576400-1733583600@www.walkinroll.org
SUMMARY:Hildebran Christmas Parade
DESCRIPTION:The Christmas Parade will be held on Saturday\, December 7th at 1:00 p.m. rain or shine. The Christmas Parade is planned and organized by the Town of Hildebran.
URL:https://www.walkinroll.org/event/hildebran-christmas-parade-2/
LOCATION:NC
CATEGORIES:Town of Hildebran
END:VEVENT
BEGIN:VEVENT
DTSTART;TZID=America/New_York:20241206T180000
DTEND;TZID=America/New_York:20241206T200000
DTSTAMP:20260425T102823
CREATED:20240204T224629Z
LAST-MODIFIED:20240825T233037Z
UID:2294-1733508000-1733515200@www.walkinroll.org
SUMMARY:Game Night (Winter Theme)
DESCRIPTION:Join us for Game Night – Winter Theme\n\n  \nWatch our Facebook Group for updates regarding the theme and menu of each event.
URL:https://www.walkinroll.org/event/game-night-33/
LOCATION:Walkin’ Roll Activities Center\, 202 S Center Street\, Hildebran\, NC\, 28637\, United States
CATEGORIES:Walkin' Roll Events
END:VEVENT
BEGIN:VEVENT
DTSTART;TZID=America/New_York:20241204T170000
DTEND;TZID=America/New_York:20241204T180000
DTSTAMP:20260425T102823
CREATED:20240825T015816Z
LAST-MODIFIED:20240825T015816Z
UID:2562-1733331600-1733335200@www.walkinroll.org
SUMMARY:Choir Practice (Meadow Ridge Church)
DESCRIPTION:Join us for Choir Practice at Meadow Ridge Church in Maiden. No prior singing experience needed. All are welcome to join this group. All Choir Practices will be on Wednesdays at Meadow Ridge Church. \nWe will be learning music that we will perform at the Christmas Cantata on Sunday\, Dec 8th\, 2024 at Meadow Ridge Church in Maiden.
URL:https://www.walkinroll.org/event/choir-practice-meadow-ridge-church-13/
LOCATION:Meadow Ridge Baptist Church\, 1173 Zeb Haynes Rd\, Maiden\, NC\, 28650\, United States
CATEGORIES:Walkin' Roll Events
END:VEVENT
BEGIN:VEVENT
DTSTART;TZID=America/New_York:20241130T100000
DTEND;TZID=America/New_York:20241130T170000
DTSTAMP:20260425T102823
CREATED:20241117T003630Z
LAST-MODIFIED:20241117T003630Z
UID:2869-1732960800-1732986000@www.walkinroll.org
SUMMARY:A Very Murray Christmas Festival
DESCRIPTION:Celebrate the holiday season with us at that mill! Live music\, wagon ride\, hot chocolate\, cider\, and more! Do your Christmas shopping with our vendors and find unique items for everyone on your list. Say hello to Santa\, take home a Christmas\, and enjoy the day with family and friends!
URL:https://www.walkinroll.org/event/a-very-murray-christmas-festival/
LOCATION:Murray’s Mill\, 1489 Murrays Mill Rd\, Catawba\, NC\, 28609\, United States
CATEGORIES:Community Events
END:VEVENT
BEGIN:VEVENT
DTSTART;TZID=America/New_York:20241127T170000
DTEND;TZID=America/New_York:20241127T180000
DTSTAMP:20260425T102823
CREATED:20240825T015755Z
LAST-MODIFIED:20240825T015755Z
UID:2560-1732726800-1732730400@www.walkinroll.org
SUMMARY:Choir Practice (Meadow Ridge Church)
DESCRIPTION:Join us for Choir Practice at Meadow Ridge Church in Maiden. No prior singing experience needed. All are welcome to join this group. All Choir Practices will be on Wednesdays at Meadow Ridge Church. \nWe will be learning music that we will perform at the Christmas Cantata on Sunday\, Dec 8th\, 2024 at Meadow Ridge Church in Maiden.
URL:https://www.walkinroll.org/event/choir-practice-meadow-ridge-church-12/
LOCATION:Meadow Ridge Baptist Church\, 1173 Zeb Haynes Rd\, Maiden\, NC\, 28650\, United States
CATEGORIES:Walkin' Roll Events
END:VEVENT
BEGIN:VEVENT
DTSTART;TZID=America/New_York:20241123T110000
DTEND;TZID=America/New_York:20241123T130000
DTSTAMP:20260425T102823
CREATED:20240825T232859Z
LAST-MODIFIED:20241028T021750Z
UID:2587-1732359600-1732366800@www.walkinroll.org
SUMMARY:Christmas Shopping (St Mark's Lutheran Claremont)
DESCRIPTION:Christmas Shopping Event – Individuals with Disabilities participating in the event will be given play money as they enter and will have the opportunity to purchase Christmas gifts with that money. \n			\n				\n					\n						\n							\n							Loading...\n						\n					\n					\n						\n							\n							Taking too long?\n						\n						\n							\n								 Reload document							\n							|\n							\n								 Open in new tab							\n					\n				\n			\n		Download [1.60 MB]
URL:https://www.walkinroll.org/event/christmas-shopping-st-marks-lutheran-claremont/
LOCATION:St Mark’s Lutheran Church\, 3216 W Main St\, Claremont\, NC\, 28610
CATEGORIES:Community Events
END:VEVENT
BEGIN:VEVENT
DTSTART;TZID=America/New_York:20241120T170000
DTEND;TZID=America/New_York:20241120T180000
DTSTAMP:20260425T102824
CREATED:20240825T015740Z
LAST-MODIFIED:20240825T015740Z
UID:2558-1732122000-1732125600@www.walkinroll.org
SUMMARY:Choir Practice (Meadow Ridge Church)
DESCRIPTION:Join us for Choir Practice at Meadow Ridge Church in Maiden. No prior singing experience needed. All are welcome to join this group. All Choir Practices will be on Wednesdays at Meadow Ridge Church. \nWe will be learning music that we will perform at the Christmas Cantata on Sunday\, Dec 8th\, 2024 at Meadow Ridge Church in Maiden.
URL:https://www.walkinroll.org/event/choir-practice-meadow-ridge-church-11/
LOCATION:Meadow Ridge Baptist Church\, 1173 Zeb Haynes Rd\, Maiden\, NC\, 28650\, United States
CATEGORIES:Walkin' Roll Events
END:VEVENT
BEGIN:VEVENT
DTSTART;TZID=America/New_York:20241115T180000
DTEND;TZID=America/New_York:20241115T200000
DTSTAMP:20260425T102824
CREATED:20240204T224613Z
LAST-MODIFIED:20240825T232233Z
UID:2292-1731693600-1731700800@www.walkinroll.org
SUMMARY:Game Night (Thanksgiving Meal)
DESCRIPTION:Join us for Game Night – Thanksgiving Meal\n\nWatch our Facebook Group for updates regarding the theme and menu of each event.
URL:https://www.walkinroll.org/event/game-night-32/
LOCATION:Walkin’ Roll Activities Center\, 202 S Center Street\, Hildebran\, NC\, 28637\, United States
CATEGORIES:Walkin' Roll Events
END:VEVENT
BEGIN:VEVENT
DTSTART;TZID=America/New_York:20241113T170000
DTEND;TZID=America/New_York:20241113T180000
DTSTAMP:20260425T102824
CREATED:20240825T015724Z
LAST-MODIFIED:20240825T015724Z
UID:2556-1731517200-1731520800@www.walkinroll.org
SUMMARY:Choir Practice (Meadow Ridge Church)
DESCRIPTION:Join us for Choir Practice at Meadow Ridge Church in Maiden. No prior singing experience needed. All are welcome to join this group. All Choir Practices will be on Wednesdays at Meadow Ridge Church. \nWe will be learning music that we will perform at the Christmas Cantata on Sunday\, Dec 8th\, 2024 at Meadow Ridge Church in Maiden.
URL:https://www.walkinroll.org/event/choir-practice-meadow-ridge-church-10/
LOCATION:Meadow Ridge Baptist Church\, 1173 Zeb Haynes Rd\, Maiden\, NC\, 28650\, United States
CATEGORIES:Walkin' Roll Events
END:VEVENT
BEGIN:VEVENT
DTSTART;TZID=America/New_York:20241106T170000
DTEND;TZID=America/New_York:20241106T180000
DTSTAMP:20260425T102824
CREATED:20240825T015705Z
LAST-MODIFIED:20240825T015705Z
UID:2554-1730912400-1730916000@www.walkinroll.org
SUMMARY:Choir Practice (Meadow Ridge Church)
DESCRIPTION:Join us for Choir Practice at Meadow Ridge Church in Maiden. No prior singing experience needed. All are welcome to join this group. All Choir Practices will be on Wednesdays at Meadow Ridge Church. \nWe will be learning music that we will perform at the Christmas Cantata on Sunday\, Dec 8th\, 2024 at Meadow Ridge Church in Maiden.
URL:https://www.walkinroll.org/event/choir-practice-meadow-ridge-church-9/
LOCATION:Meadow Ridge Baptist Church\, 1173 Zeb Haynes Rd\, Maiden\, NC\, 28650\, United States
CATEGORIES:Walkin' Roll Events
END:VEVENT
BEGIN:VEVENT
DTSTART;TZID=America/New_York:20241101T180000
DTEND;TZID=America/New_York:20241101T200000
DTSTAMP:20260425T102824
CREATED:20240204T224558Z
LAST-MODIFIED:20241023T001151Z
UID:2290-1730484000-1730491200@www.walkinroll.org
SUMMARY:Game Night (Halloween Party)
DESCRIPTION:Join us for Game Night – Halloween Party\n\n \n\n  \nWatch our Facebook Group for updates regarding the theme and menu of each event.
URL:https://www.walkinroll.org/event/game-night-31/
LOCATION:Walkin’ Roll Activities Center\, 202 S Center Street\, Hildebran\, NC\, 28637\, United States
CATEGORIES:Walkin' Roll Events
END:VEVENT
BEGIN:VEVENT
DTSTART;TZID=America/New_York:20241030T170000
DTEND;TZID=America/New_York:20241030T180000
DTSTAMP:20260425T102824
CREATED:20240825T015643Z
LAST-MODIFIED:20240825T015643Z
UID:2552-1730307600-1730311200@www.walkinroll.org
SUMMARY:Choir Practice (Meadow Ridge Church)
DESCRIPTION:Join us for Choir Practice at Meadow Ridge Church in Maiden. No prior singing experience needed. All are welcome to join this group. All Choir Practices will be on Wednesdays at Meadow Ridge Church. \nWe will be learning music that we will perform at the Christmas Cantata on Sunday\, Dec 8th\, 2024 at Meadow Ridge Church in Maiden.
URL:https://www.walkinroll.org/event/choir-practice-meadow-ridge-church-8/
LOCATION:Meadow Ridge Baptist Church\, 1173 Zeb Haynes Rd\, Maiden\, NC\, 28650\, United States
CATEGORIES:Walkin' Roll Events
END:VEVENT
BEGIN:VEVENT
DTSTART;TZID=America/New_York:20241023T170000
DTEND;TZID=America/New_York:20241023T180000
DTSTAMP:20260425T102824
CREATED:20240825T015626Z
LAST-MODIFIED:20240825T015626Z
UID:2550-1729702800-1729706400@www.walkinroll.org
SUMMARY:Choir Practice (Meadow Ridge Church)
DESCRIPTION:Join us for Choir Practice at Meadow Ridge Church in Maiden. No prior singing experience needed. All are welcome to join this group. All Choir Practices will be on Wednesdays at Meadow Ridge Church. \nWe will be learning music that we will perform at the Christmas Cantata on Sunday\, Dec 8th\, 2024 at Meadow Ridge Church in Maiden.
URL:https://www.walkinroll.org/event/choir-practice-meadow-ridge-church-7/
LOCATION:Meadow Ridge Baptist Church\, 1173 Zeb Haynes Rd\, Maiden\, NC\, 28650\, United States
CATEGORIES:Walkin' Roll Events
END:VEVENT
BEGIN:VEVENT
DTSTART;TZID=America/New_York:20241018T180000
DTEND;TZID=America/New_York:20241018T200000
DTSTAMP:20260425T102824
CREATED:20240204T224538Z
LAST-MODIFIED:20241012T151601Z
UID:2288-1729274400-1729281600@www.walkinroll.org
SUMMARY:Game Night (Tacos)
DESCRIPTION:Join us for Game Night – Tacos\n\n  \nWatch our Facebook Group for updates regarding the theme and menu of each event.
URL:https://www.walkinroll.org/event/game-night-30/
LOCATION:Walkin’ Roll Activities Center\, 202 S Center Street\, Hildebran\, NC\, 28637\, United States
CATEGORIES:Walkin' Roll Events
END:VEVENT
BEGIN:VEVENT
DTSTART;TZID=America/New_York:20241016T170000
DTEND;TZID=America/New_York:20241016T180000
DTSTAMP:20260425T102824
CREATED:20240825T015551Z
LAST-MODIFIED:20240825T015551Z
UID:2548-1729098000-1729101600@www.walkinroll.org
SUMMARY:Choir Practice (Meadow Ridge Church)
DESCRIPTION:Join us for Choir Practice at Meadow Ridge Church in Maiden. No prior singing experience needed. All are welcome to join this group. All Choir Practices will be on Wednesdays at Meadow Ridge Church. \nWe will be learning music that we will perform at the Christmas Cantata on Sunday\, Dec 8th\, 2024 at Meadow Ridge Church in Maiden.
URL:https://www.walkinroll.org/event/choir-practice-meadow-ridge-church-6/
LOCATION:Meadow Ridge Baptist Church\, 1173 Zeb Haynes Rd\, Maiden\, NC\, 28650\, United States
CATEGORIES:Walkin' Roll Events
END:VEVENT
BEGIN:VEVENT
DTSTART;TZID=America/New_York:20241012T080000
DTEND;TZID=America/New_York:20241012T140000
DTSTAMP:20260425T102824
CREATED:20240825T231958Z
LAST-MODIFIED:20240825T231958Z
UID:2583-1728720000-1728741600@www.walkinroll.org
SUMMARY:Walkin' Roll Yard Sale
DESCRIPTION:Come out and buy some items from our Yard Sale. Tell Your Friends! \nAll proceeds from the sale go directly back into our league to cover ongoing costs associated with Game Nights\, T-ball\, etc.
URL:https://www.walkinroll.org/event/walkin-roll-yard-sale-oct2024/
LOCATION:Walkin’ Roll Activities Center\, 202 S Center Street\, Hildebran\, NC\, 28637\, United States
CATEGORIES:Walkin' Roll Events
END:VEVENT
BEGIN:VEVENT
DTSTART;TZID=America/New_York:20241011T180000
DTEND;TZID=America/New_York:20241011T200000
DTSTAMP:20260425T102824
CREATED:20240825T231746Z
LAST-MODIFIED:20240825T231746Z
UID:2581-1728669600-1728676800@www.walkinroll.org
SUMMARY:Yard Sale Setup Night & Preview
DESCRIPTION:We will be setting up tables with items for the Yard Sale that will take place the following day. Saturday\, Oct 12th from 7am – 2pm. \nIn addition to the yard sale setup\, we will have a Preview for those in attendance for the Setup.
URL:https://www.walkinroll.org/event/yard-sale-setup-night-pre-sale-oct2024/
LOCATION:Walkin’ Roll Activities Center\, 202 S Center Street\, Hildebran\, NC\, 28637\, United States
CATEGORIES:Walkin' Roll Events
END:VEVENT
BEGIN:VEVENT
DTSTART;TZID=America/New_York:20241009T170000
DTEND;TZID=America/New_York:20241009T180000
DTSTAMP:20260425T102824
CREATED:20240825T015529Z
LAST-MODIFIED:20240825T015529Z
UID:2546-1728493200-1728496800@www.walkinroll.org
SUMMARY:Choir Practice (Meadow Ridge Church)
DESCRIPTION:Join us for Choir Practice at Meadow Ridge Church in Maiden. No prior singing experience needed. All are welcome to join this group. All Choir Practices will be on Wednesdays at Meadow Ridge Church. \nWe will be learning music that we will perform at the Christmas Cantata on Sunday\, Dec 8th\, 2024 at Meadow Ridge Church in Maiden.
URL:https://www.walkinroll.org/event/choir-practice-meadow-ridge-church-5/
LOCATION:Meadow Ridge Baptist Church\, 1173 Zeb Haynes Rd\, Maiden\, NC\, 28650\, United States
CATEGORIES:Walkin' Roll Events
END:VEVENT
BEGIN:VEVENT
DTSTART;TZID=America/New_York:20241004T180000
DTEND;TZID=America/New_York:20241004T200000
DTSTAMP:20260425T102824
CREATED:20240204T224525Z
LAST-MODIFIED:20240825T231459Z
UID:2286-1728064800-1728072000@www.walkinroll.org
SUMMARY:Game Night (BBQ)
DESCRIPTION:Join us for Game Night – BBQ Meal\n\n  \nWatch our Facebook Group for updates regarding the theme and menu of each event.
URL:https://www.walkinroll.org/event/game-night-29/
LOCATION:Walkin’ Roll Activities Center\, 202 S Center Street\, Hildebran\, NC\, 28637\, United States
CATEGORIES:Walkin' Roll Events
END:VEVENT
BEGIN:VEVENT
DTSTART;TZID=America/New_York:20241002T170000
DTEND;TZID=America/New_York:20241002T180000
DTSTAMP:20260425T102824
CREATED:20240825T015451Z
LAST-MODIFIED:20240825T015451Z
UID:2544-1727888400-1727892000@www.walkinroll.org
SUMMARY:Choir Practice (Meadow Ridge Church)
DESCRIPTION:Join us for Choir Practice at Meadow Ridge Church in Maiden. No prior singing experience needed. All are welcome to join this group. All Choir Practices will be on Wednesdays at Meadow Ridge Church. \nWe will be learning music that we will perform at the Christmas Cantata on Sunday\, Dec 8th\, 2024 at Meadow Ridge Church in Maiden.
URL:https://www.walkinroll.org/event/choir-practice-meadow-ridge-church-4/
LOCATION:Meadow Ridge Baptist Church\, 1173 Zeb Haynes Rd\, Maiden\, NC\, 28650\, United States
CATEGORIES:Walkin' Roll Events
END:VEVENT
BEGIN:VEVENT
DTSTART;TZID=America/New_York:20240928T180000
DTEND;TZID=America/New_York:20240928T200000
DTSTAMP:20260425T102824
CREATED:20240204T224509Z
LAST-MODIFIED:20240927T201209Z
UID:2284-1727546400-1727553600@www.walkinroll.org
SUMMARY:Fashion Show (Hickory Furniture Mart)
DESCRIPTION:RESCHEDULED FOR SAT 9/28 @6PM\n\nJoin us for a Fashion Show at the Hickory Furniture Mart. Models for the event will be some you may know from our Walkin’ Roll Community.\n\n\n\n\nWatch our Facebook Group for updates about this event.
URL:https://www.walkinroll.org/event/fashion-show-hickory-furniture-mart/
LOCATION:Hickory Furniture Mart\, 2220 US Hwy 70 SE\, Hickory\, 28602\, United States
CATEGORIES:Walkin' Roll Events
END:VEVENT
BEGIN:VEVENT
DTSTART;TZID=America/New_York:20240928T160000
DTEND;TZID=America/New_York:20240928T193000
DTSTAMP:20260425T102824
CREATED:20240825T225531Z
LAST-MODIFIED:20240825T225531Z
UID:2572-1727539200-1727551800@www.walkinroll.org
SUMMARY:Hildebran Cruise-In 2024
DESCRIPTION:The Town of Hildebran Cruise-In – last event of 2024.  The Cruise-Ins are planned and organized by Hildebran Heritage and Development Association (HHDA).  View the flyer on their Facebook page here: https://www.facebook.com/photo?fbid=461128539879418&set=a.185913897400885 \nIn addition to classic cars\, live music\, Rex’s famous homemade ice cream and food\, there will be a hot dog cart at each cruise-in!  Come visit us in the Albert Parkhurst Municipal Complex parking lot to enjoy the event.
URL:https://www.walkinroll.org/event/hildebran-cruise-in-2024/
LOCATION:Walkin’ Roll Activities Center\, 202 S Center Street\, Hildebran\, NC\, 28637\, United States
CATEGORIES:Town of Hildebran
ATTACH;FMTTYPE=image/jpeg:https://www.walkinroll.org/wp-content/uploads/aaaBlank.jpg
END:VEVENT
BEGIN:VEVENT
DTSTART;TZID=America/New_York:20240925T180000
DTEND;TZID=America/New_York:20240925T190000
DTSTAMP:20260425T102824
CREATED:20240825T015414Z
LAST-MODIFIED:20240825T015414Z
UID:2542-1727287200-1727290800@www.walkinroll.org
SUMMARY:Choir Practice (Meadow Ridge Church)
DESCRIPTION:Join us for Choir Practice at Meadow Ridge Church in Maiden. No prior singing experience needed. All are welcome to join this group. All Choir Practices will be on Wednesdays at Meadow Ridge Church. \nWe will be learning music that we will perform at the Christmas Cantata on Sunday\, Dec 8th\, 2024 at Meadow Ridge Church in Maiden.
URL:https://www.walkinroll.org/event/choir-practice-meadow-ridge-church-3/
LOCATION:Meadow Ridge Baptist Church\, 1173 Zeb Haynes Rd\, Maiden\, NC\, 28650\, United States
CATEGORIES:Walkin' Roll Events
END:VEVENT
BEGIN:VEVENT
DTSTART;TZID=America/New_York:20240921T100000
DTEND;TZID=America/New_York:20240921T130000
DTSTAMP:20260425T102824
CREATED:20240825T230940Z
LAST-MODIFIED:20240920T013147Z
UID:2574-1726912800-1726923600@www.walkinroll.org
SUMMARY:Brooke's Round Up
DESCRIPTION:Click Here to Register for Brooke’s Round Up 2024 \n\nBrooke’s Round Up Registration and Information
URL:https://www.walkinroll.org/event/brookes-round-up/
LOCATION:Blazing Trails Cowboy Church\, 1222 Ponderosa Road\, Lincolnton\, NC\, 28092
CATEGORIES:Community Events
END:VEVENT
BEGIN:VEVENT
DTSTART;TZID=America/New_York:20240920T180000
DTEND;TZID=America/New_York:20240920T200000
DTSTAMP:20260425T102824
CREATED:20240901T013234Z
LAST-MODIFIED:20240901T013234Z
UID:2646-1726855200-1726862400@www.walkinroll.org
SUMMARY:Game Night
DESCRIPTION:Join us for Game Night\n\n  \nWatch our Facebook Group for updates regarding the theme and menu of each event.
URL:https://www.walkinroll.org/event/game-night-28/
LOCATION:Walkin’ Roll Activities Center\, 202 S Center Street\, Hildebran\, NC\, 28637\, United States
CATEGORIES:Walkin' Roll Events
END:VEVENT
BEGIN:VEVENT
DTSTART;TZID=America/New_York:20240918T170000
DTEND;TZID=America/New_York:20240918T180000
DTSTAMP:20260425T102824
CREATED:20240825T015257Z
LAST-MODIFIED:20240825T015257Z
UID:2540-1726678800-1726682400@www.walkinroll.org
SUMMARY:Choir Practice (Meadow Ridge Church)
DESCRIPTION:Join us for Choir Practice at Meadow Ridge Church in Maiden. No prior singing experience needed. All are welcome to join this group. All Choir Practices will be on Wednesdays at Meadow Ridge Church. \nWe will be learning music that we will perform at the Christmas Cantata on Sunday\, Dec 8th\, 2024 at Meadow Ridge Church in Maiden.
URL:https://www.walkinroll.org/event/choir-practice-meadow-ridge-church-2/
LOCATION:Meadow Ridge Baptist Church\, 1173 Zeb Haynes Rd\, Maiden\, NC\, 28650\, United States
CATEGORIES:Walkin' Roll Events
END:VEVENT
END:VCALENDAR