BEGIN:VCALENDAR
VERSION:2.0
PRODID:-//Walkin&#039; Roll Activities League, Inc. - ECPv6.15.20//NONSGML v1.0//EN
CALSCALE:GREGORIAN
METHOD:PUBLISH
X-WR-CALNAME:Walkin&#039; Roll Activities League, Inc.
X-ORIGINAL-URL:https://www.walkinroll.org
X-WR-CALDESC:Events for Walkin&#039; Roll Activities League, Inc.
REFRESH-INTERVAL;VALUE=DURATION:PT1H
X-Robots-Tag:noindex
X-PUBLISHED-TTL:PT1H
BEGIN:VTIMEZONE
TZID:America/New_York
BEGIN:DAYLIGHT
TZOFFSETFROM:-0500
TZOFFSETTO:-0400
TZNAME:EDT
DTSTART:20220313T070000
END:DAYLIGHT
BEGIN:STANDARD
TZOFFSETFROM:-0400
TZOFFSETTO:-0500
TZNAME:EST
DTSTART:20221106T060000
END:STANDARD
BEGIN:DAYLIGHT
TZOFFSETFROM:-0500
TZOFFSETTO:-0400
TZNAME:EDT
DTSTART:20230312T070000
END:DAYLIGHT
BEGIN:STANDARD
TZOFFSETFROM:-0400
TZOFFSETTO:-0500
TZNAME:EST
DTSTART:20231105T060000
END:STANDARD
BEGIN:DAYLIGHT
TZOFFSETFROM:-0500
TZOFFSETTO:-0400
TZNAME:EDT
DTSTART:20240310T070000
END:DAYLIGHT
BEGIN:STANDARD
TZOFFSETFROM:-0400
TZOFFSETTO:-0500
TZNAME:EST
DTSTART:20241103T060000
END:STANDARD
END:VTIMEZONE
BEGIN:VEVENT
DTSTART;TZID=America/New_York:20230303T170000
DTEND;TZID=America/New_York:20230303T190000
DTSTAMP:20260425T201252
CREATED:20230102T021323Z
LAST-MODIFIED:20230122T035259Z
UID:1599-1677862800-1677870000@www.walkinroll.org
SUMMARY:Game Night
DESCRIPTION:Join us for Game Night on the 1st and 3rd Friday of each month.\n\n\n  \nWatch our Facebook Group for updates regarding the theme and menu of each event.
URL:https://www.walkinroll.org/event/game-night-17/
LOCATION:Walkin’ Roll Activities Center\, 202 S Center Street\, Hildebran\, NC\, 28637\, United States
CATEGORIES:Walkin' Roll Events
END:VEVENT
BEGIN:VEVENT
DTSTART;TZID=America/New_York:20230217T170000
DTEND;TZID=America/New_York:20230217T190000
DTSTAMP:20260425T201252
CREATED:20230102T021302Z
LAST-MODIFIED:20230122T035224Z
UID:1597-1676653200-1676660400@www.walkinroll.org
SUMMARY:Game Night
DESCRIPTION:Join us for Game Night on the 1st and 3rd Friday of each month.\n\n\n  \nWatch our Facebook Group for updates regarding the theme and menu of each event.
URL:https://www.walkinroll.org/event/game-night-16/
LOCATION:Walkin’ Roll Activities Center\, 202 S Center Street\, Hildebran\, NC\, 28637\, United States
CATEGORIES:Walkin' Roll Events
END:VEVENT
BEGIN:VEVENT
DTSTART;TZID=America/New_York:20230203T170000
DTEND;TZID=America/New_York:20230203T190000
DTSTAMP:20260425T201252
CREATED:20230102T021231Z
LAST-MODIFIED:20230122T035124Z
UID:1595-1675443600-1675450800@www.walkinroll.org
SUMMARY:Superbowl Party Game Night
DESCRIPTION:Superbowl Party Theme — We’ll have Hot Dogs. We need everyone to bring the fixings. \nJoin us for Game Night on the 1st and 3rd Friday of each month. \n  \nWatch our Facebook Group for updates regarding the theme and menu of each event.
URL:https://www.walkinroll.org/event/game-night-15/
LOCATION:Walkin’ Roll Activities Center\, 202 S Center Street\, Hildebran\, NC\, 28637\, United States
CATEGORIES:Walkin' Roll Events
END:VEVENT
BEGIN:VEVENT
DTSTART;TZID=America/New_York:20230123T173000
DTEND;TZID=America/New_York:20230123T193000
DTSTAMP:20260425T201252
CREATED:20230114T051813Z
LAST-MODIFIED:20230122T034900Z
UID:1684-1674495000-1674502200@www.walkinroll.org
SUMMARY:Inclusive Winter Craft
DESCRIPTION:Inclusive Winter Craft – this is a free program but will require registration since spots are limited. \nRegister here: https://hickory.activityreg.com/selectactivity_t2.wcs \n\nHighland Recreation Center – Monday\, January 23rd at 5:30 p.m.\n\n			\n				\n					\n						\n							\n							Loading...\n						\n					\n					\n						\n							\n							Taking too long?\n						\n						\n							\n								 Reload document							\n							|\n							\n								 Open in new tab
URL:https://www.walkinroll.org/event/inclusive-winter-craft/
LOCATION:Highland Recreation Center\, 1451 8th St Dr NE\, Hickory\, NC\, 28601\, United States
CATEGORIES:Hickory Parks
ORGANIZER;CN="Crystal Martinez":MAILTO:cmartinez@hickorync.gov
END:VEVENT
BEGIN:VEVENT
DTSTART;TZID=America/New_York:20230120T170000
DTEND;TZID=America/New_York:20230120T190000
DTSTAMP:20260425T201252
CREATED:20230102T022509Z
LAST-MODIFIED:20230102T022509Z
UID:1639-1674234000-1674241200@www.walkinroll.org
SUMMARY:Game Night
DESCRIPTION:Join us for Game Night on the 1st and 3rd Friday of each month.\n\nWatch our Facebook Group for updates regarding the theme and menu of each event.
URL:https://www.walkinroll.org/event/game-night-37/
LOCATION:Walkin’ Roll Activities Center\, 202 S Center Street\, Hildebran\, NC\, 28637\, United States
CATEGORIES:Walkin' Roll Events
ATTACH;FMTTYPE=image/jpeg:https://www.walkinroll.org/wp-content/uploads/aaaBlank.jpg
END:VEVENT
BEGIN:VEVENT
DTSTART;TZID=America/New_York:20230106T170000
DTEND;TZID=America/New_York:20230106T190000
DTSTAMP:20260425T201252
CREATED:20230102T020952Z
LAST-MODIFIED:20230102T020952Z
UID:1593-1673024400-1673031600@www.walkinroll.org
SUMMARY:Game Night
DESCRIPTION:Join us for Game Night on the 1st and 3rd Friday of each month.\n\nWatch our Facebook Group for updates regarding the theme and menu of each event.
URL:https://www.walkinroll.org/event/game-night-14/
LOCATION:Walkin’ Roll Activities Center\, 202 S Center Street\, Hildebran\, NC\, 28637\, United States
CATEGORIES:Walkin' Roll Events
ATTACH;FMTTYPE=image/jpeg:https://www.walkinroll.org/wp-content/uploads/aaaBlank.jpg
END:VEVENT
END:VCALENDAR