BEGIN:VCALENDAR
VERSION:2.0
PRODID:-//Walkin&#039; Roll Activities League, Inc. - ECPv6.15.20//NONSGML v1.0//EN
CALSCALE:GREGORIAN
METHOD:PUBLISH
X-ORIGINAL-URL:https://www.walkinroll.org
X-WR-CALDESC:Events for Walkin&#039; Roll Activities League, Inc.
REFRESH-INTERVAL;VALUE=DURATION:PT1H
X-Robots-Tag:noindex
X-PUBLISHED-TTL:PT1H
BEGIN:VTIMEZONE
TZID:America/New_York
BEGIN:DAYLIGHT
TZOFFSETFROM:-0500
TZOFFSETTO:-0400
TZNAME:EDT
DTSTART:20220313T070000
END:DAYLIGHT
BEGIN:STANDARD
TZOFFSETFROM:-0400
TZOFFSETTO:-0500
TZNAME:EST
DTSTART:20221106T060000
END:STANDARD
BEGIN:DAYLIGHT
TZOFFSETFROM:-0500
TZOFFSETTO:-0400
TZNAME:EDT
DTSTART:20230312T070000
END:DAYLIGHT
BEGIN:STANDARD
TZOFFSETFROM:-0400
TZOFFSETTO:-0500
TZNAME:EST
DTSTART:20231105T060000
END:STANDARD
BEGIN:DAYLIGHT
TZOFFSETFROM:-0500
TZOFFSETTO:-0400
TZNAME:EDT
DTSTART:20240310T070000
END:DAYLIGHT
BEGIN:STANDARD
TZOFFSETFROM:-0400
TZOFFSETTO:-0500
TZNAME:EST
DTSTART:20241103T060000
END:STANDARD
END:VTIMEZONE
BEGIN:VEVENT
DTSTART;TZID=America/New_York:20230616T170000
DTEND;TZID=America/New_York:20230616T190000
DTSTAMP:20260425T095643
CREATED:20230102T021731Z
LAST-MODIFIED:20230609T025926Z
UID:1613-1686934800-1686942000@www.walkinroll.org
SUMMARY:Discovery Buddies - Game Night
DESCRIPTION:Discovery Buddies\, a ministry to support those with special needs\, is hosting a game night for families with special needs on Friday\, June 16th from 6-8 pm at Discovery Church. We will have an evening of dinner\, games\, prizes\, fellowship and lots of fun! Help us spread the word in the community about this fun event! Participants are asked to register on the church website by clicking here. \nDiscovery Church on Startown Rd – June 16th from 6-8pm
URL:https://www.walkinroll.org/event/discovery-buddies-game-night/
LOCATION:Discovery Church\, 2201 Startown Road\, Newton\, NC\, 28658\, United States
CATEGORIES:Discovery Church
ORGANIZER;CN="Discovery Church":MAILTO:cat@discoverychurchhickory.com
END:VEVENT
BEGIN:VEVENT
DTSTART;TZID=America/New_York:20230602T170000
DTEND;TZID=America/New_York:20230602T190000
DTSTAMP:20260425T095643
CREATED:20230102T021711Z
LAST-MODIFIED:20230609T025233Z
UID:1611-1685725200-1685732400@www.walkinroll.org
SUMMARY:Game Night (CANCELLED)
DESCRIPTION:**This event was cancelled last minute.\n\nJoin us for Game Night on the 1st and 3rd Friday of each month.\n\n  \nWatch our Facebook Group for updates regarding the theme and menu of each event.
URL:https://www.walkinroll.org/event/game-night-23/
LOCATION:Walkin’ Roll Activities Center\, 202 S Center Street\, Hildebran\, NC\, 28637\, United States
CATEGORIES:Walkin' Roll Events
END:VEVENT
BEGIN:VEVENT
DTSTART;TZID=America/New_York:20230520T100000
DTEND;TZID=America/New_York:20230520T120000
DTSTAMP:20260425T095643
CREATED:20230122T011945Z
LAST-MODIFIED:20230122T011945Z
UID:1742-1684576800-1684584000@www.walkinroll.org
SUMMARY:T-ball Game
DESCRIPTION:Regular Season Games will be played at West Hickory Field in Longview. Please watch for changes due to inclement weather on our Facebook Group or Facebook Page. \n10am – 11am -Braves vs Rockies\n11am – 12 noon – Rangers vs Crawdads
URL:https://www.walkinroll.org/event/t-ball-game-9/
LOCATION:West Hickory Field\, 830 16th St SW\, Hickory\, NC\, 28602\, United States
CATEGORIES:Walkin' Roll Events
END:VEVENT
BEGIN:VEVENT
DTSTART;TZID=America/New_York:20230519T170000
DTEND;TZID=America/New_York:20230519T190000
DTSTAMP:20260425T095643
CREATED:20230102T021628Z
LAST-MODIFIED:20230122T035512Z
UID:1609-1684515600-1684522800@www.walkinroll.org
SUMMARY:Game Night
DESCRIPTION:Join us for Game Night on the 1st and 3rd Friday of each month.\n\n  \nWatch our Facebook Group for updates regarding the theme and menu of each event.
URL:https://www.walkinroll.org/event/game-night-22/
LOCATION:Walkin’ Roll Activities Center\, 202 S Center Street\, Hildebran\, NC\, 28637\, United States
CATEGORIES:Walkin' Roll Events
END:VEVENT
BEGIN:VEVENT
DTSTART;TZID=America/New_York:20230513T100000
DTEND;TZID=America/New_York:20230513T120000
DTSTAMP:20260425T095643
CREATED:20230122T011924Z
LAST-MODIFIED:20230122T011924Z
UID:1740-1683972000-1683979200@www.walkinroll.org
SUMMARY:T-ball Game
DESCRIPTION:Regular Season Games will be played at West Hickory Field in Longview. Please watch for changes due to inclement weather on our Facebook Group or Facebook Page. \n10am – 11am -Braves vs Rockies\n11am – 12 noon – Rangers vs Crawdads
URL:https://www.walkinroll.org/event/t-ball-game-8/
LOCATION:West Hickory Field\, 830 16th St SW\, Hickory\, NC\, 28602\, United States
CATEGORIES:Walkin' Roll Events
END:VEVENT
BEGIN:VEVENT
DTSTART;TZID=America/New_York:20230506T100000
DTEND;TZID=America/New_York:20230506T120000
DTSTAMP:20260425T095643
CREATED:20230122T011908Z
LAST-MODIFIED:20230122T011908Z
UID:1738-1683367200-1683374400@www.walkinroll.org
SUMMARY:T-ball Game
DESCRIPTION:Regular Season Games will be played at West Hickory Field in Longview. Please watch for changes due to inclement weather on our Facebook Group or Facebook Page. \n10am – 11am -Braves vs Rockies\n11am – 12 noon – Rangers vs Crawdads
URL:https://www.walkinroll.org/event/t-ball-game-7/
LOCATION:West Hickory Field\, 830 16th St SW\, Hickory\, NC\, 28602\, United States
CATEGORIES:Walkin' Roll Events
END:VEVENT
BEGIN:VEVENT
DTSTART;TZID=America/New_York:20230505T170000
DTEND;TZID=America/New_York:20230505T190000
DTSTAMP:20260425T095643
CREATED:20230102T021532Z
LAST-MODIFIED:20230122T035454Z
UID:1607-1683306000-1683313200@www.walkinroll.org
SUMMARY:Game Night
DESCRIPTION:Join us for Game Night on the 1st and 3rd Friday of each month.\n\n  \nWatch our Facebook Group for updates regarding the theme and menu of each event.
URL:https://www.walkinroll.org/event/game-night-21/
LOCATION:Walkin’ Roll Activities Center\, 202 S Center Street\, Hildebran\, NC\, 28637\, United States
CATEGORIES:Walkin' Roll Events
END:VEVENT
BEGIN:VEVENT
DTSTART;TZID=America/New_York:20230429T100000
DTEND;TZID=America/New_York:20230429T120000
DTSTAMP:20260425T095643
CREATED:20230122T011845Z
LAST-MODIFIED:20230122T011845Z
UID:1736-1682762400-1682769600@www.walkinroll.org
SUMMARY:T-ball Game
DESCRIPTION:Regular Season Games will be played at West Hickory Field in Longview. Please watch for changes due to inclement weather on our Facebook Group or Facebook Page. \n10am – 11am -Braves vs Rockies\n11am – 12 noon – Rangers vs Crawdads
URL:https://www.walkinroll.org/event/t-ball-game-6/
LOCATION:West Hickory Field\, 830 16th St SW\, Hickory\, NC\, 28602\, United States
CATEGORIES:Walkin' Roll Events
END:VEVENT
BEGIN:VEVENT
DTSTART;TZID=America/New_York:20230422T100000
DTEND;TZID=America/New_York:20230422T120000
DTSTAMP:20260425T095643
CREATED:20230122T011830Z
LAST-MODIFIED:20230122T011830Z
UID:1734-1682157600-1682164800@www.walkinroll.org
SUMMARY:T-ball Game
DESCRIPTION:Regular Season Games will be played at West Hickory Field in Longview. Please watch for changes due to inclement weather on our Facebook Group or Facebook Page. \n10am – 11am -Braves vs Rockies\n11am – 12 noon – Rangers vs Crawdads
URL:https://www.walkinroll.org/event/t-ball-game-5/
LOCATION:West Hickory Field\, 830 16th St SW\, Hickory\, NC\, 28602\, United States
CATEGORIES:Walkin' Roll Events
END:VEVENT
BEGIN:VEVENT
DTSTART;TZID=America/New_York:20230421T170000
DTEND;TZID=America/New_York:20230421T190000
DTSTAMP:20260425T095643
CREATED:20230102T021509Z
LAST-MODIFIED:20230122T035426Z
UID:1605-1682096400-1682103600@www.walkinroll.org
SUMMARY:Game Night
DESCRIPTION:Join us for Game Night on the 1st and 3rd Friday of each month.\n\n  \nWatch our Facebook Group for updates regarding the theme and menu of each event.
URL:https://www.walkinroll.org/event/game-night-20/
LOCATION:Walkin’ Roll Activities Center\, 202 S Center Street\, Hildebran\, NC\, 28637\, United States
CATEGORIES:Walkin' Roll Events
END:VEVENT
BEGIN:VEVENT
DTSTART;TZID=America/New_York:20230415T100000
DTEND;TZID=America/New_York:20230415T120000
DTSTAMP:20260425T095643
CREATED:20230122T011807Z
LAST-MODIFIED:20230122T011807Z
UID:1732-1681552800-1681560000@www.walkinroll.org
SUMMARY:T-ball Game
DESCRIPTION:Regular Season Games will be played at West Hickory Field in Longview. Please watch for changes due to inclement weather on our Facebook Group or Facebook Page. \n10am – 11am -Braves vs Rockies\n11am – 12 noon – Rangers vs Crawdads
URL:https://www.walkinroll.org/event/t-ball-game-4/
LOCATION:West Hickory Field\, 830 16th St SW\, Hickory\, NC\, 28602\, United States
CATEGORIES:Walkin' Roll Events
END:VEVENT
BEGIN:VEVENT
DTSTART;TZID=America/New_York:20230408T100000
DTEND;TZID=America/New_York:20230408T120000
DTSTAMP:20260425T095643
CREATED:20230122T011746Z
LAST-MODIFIED:20230408T030342Z
UID:1730-1680948000-1680955200@www.walkinroll.org
SUMMARY:T-ball Game - CANCELLED
DESCRIPTION:No T-ball again tomorrow Sat\, Apr 8th due to rainy forecast. Have a Safe and Happy Easter. We hope to see everyone next week. \n  \nRegular Season Games will be played at West Hickory Field in Longview. Please watch for changes due to inclement weather on our Facebook Group or Facebook Page. \n10am – 11am -Braves vs Rockies\n11am – 12 noon – Rangers vs Crawdads
URL:https://www.walkinroll.org/event/t-ball-game-3/
LOCATION:West Hickory Field\, 830 16th St SW\, Hickory\, NC\, 28602\, United States
CATEGORIES:Walkin' Roll Events
END:VEVENT
BEGIN:VEVENT
DTSTART;TZID=America/New_York:20230407T170000
DTEND;TZID=America/New_York:20230407T190000
DTSTAMP:20260425T095643
CREATED:20230102T021453Z
LAST-MODIFIED:20230122T035358Z
UID:1603-1680886800-1680894000@www.walkinroll.org
SUMMARY:Game Night
DESCRIPTION:Join us for Game Night on the 1st and 3rd Friday of each month.\n\n  \nWatch our Facebook Group for updates regarding the theme and menu of each event.
URL:https://www.walkinroll.org/event/game-night-19/
LOCATION:Walkin’ Roll Activities Center\, 202 S Center Street\, Hildebran\, NC\, 28637\, United States
CATEGORIES:Walkin' Roll Events
END:VEVENT
BEGIN:VEVENT
DTSTART;TZID=America/New_York:20230401T100000
DTEND;TZID=America/New_York:20230401T120000
DTSTAMP:20260425T095643
CREATED:20230122T011434Z
LAST-MODIFIED:20230401T122044Z
UID:1728-1680343200-1680350400@www.walkinroll.org
SUMMARY:Easter Egg Hunt POSTPONED & T-ball Game CANCELLED
DESCRIPTION:  \nUnfortunately we are going to cancel T-ball again today due to rain and high winds. We are postponing Easter Egg Hunt and will let you know later when it will take place\, which may be after Easter. \n  \n**Easter Egg Hunt — please bring 2 dozen eggs with goodies inside. Egg Hunt for before each T-ball Game ** \nRegular Season Games will be played at West Hickory Field in Longview. Please watch for changes due to inclement weather on our Facebook Group or Facebook Page. \n10am – 11am -Braves vs Rockies\n11am – 12 noon – Rangers vs Crawdads
URL:https://www.walkinroll.org/event/easter-egg-hunt-t-ball-game/
LOCATION:West Hickory Field\, 830 16th St SW\, Hickory\, NC\, 28602\, United States
CATEGORIES:Walkin' Roll Events
END:VEVENT
BEGIN:VEVENT
DTSTART;TZID=America/New_York:20230325T100000
DTEND;TZID=America/New_York:20230325T120000
DTSTAMP:20260425T095643
CREATED:20230122T011214Z
LAST-MODIFIED:20230325T124405Z
UID:1726-1679738400-1679745600@www.walkinroll.org
SUMMARY:T-ball Game - CANCELLED
DESCRIPTION:Unfortunately\, we have decided to Cancel T-ball again today\, Mar 25th due to rain and possible thunder storms. \n  \nRegular Season Games will be played at West Hickory Field in Longview. Please watch for changes due to inclement weather on our Facebook Group or Facebook Page. \n10am – 11am -Braves vs Rockies\n11am – 12 noon – Rangers vs Crawdads
URL:https://www.walkinroll.org/event/t-ball-game-2/
LOCATION:West Hickory Field\, 830 16th St SW\, Hickory\, NC\, 28602\, United States
CATEGORIES:Walkin' Roll Events
END:VEVENT
BEGIN:VEVENT
DTSTART;TZID=America/New_York:20230318T100000
DTEND;TZID=America/New_York:20230318T120000
DTSTAMP:20260425T095643
CREATED:20230122T001900Z
LAST-MODIFIED:20230318T021726Z
UID:1703-1679133600-1679140800@www.walkinroll.org
SUMMARY:T-ball Game - CANCELLED
DESCRIPTION:The games have been cancelled due to wet weather. \nSee you next week! \n  \nPlease watch for changes due to inclement weather on our Facebook Group or Facebook Page. \n10am – 11am -Braves vs Rockies\n11am – 12 noon – Rangers vs Crawdads
URL:https://www.walkinroll.org/event/t-ball-game/
LOCATION:West Hickory Field\, 830 16th St SW\, Hickory\, NC\, 28602\, United States
CATEGORIES:Walkin' Roll Events
END:VEVENT
BEGIN:VEVENT
DTSTART;TZID=America/New_York:20230317T170000
DTEND;TZID=America/New_York:20230317T190000
DTSTAMP:20260425T095643
CREATED:20230102T021356Z
LAST-MODIFIED:20230122T035324Z
UID:1601-1679072400-1679079600@www.walkinroll.org
SUMMARY:Game Night
DESCRIPTION:Join us for Game Night on the 1st and 3rd Friday of each month.\n\n  \nWatch our Facebook Group for updates regarding the theme and menu of each event.
URL:https://www.walkinroll.org/event/game-night-18/
LOCATION:Walkin’ Roll Activities Center\, 202 S Center Street\, Hildebran\, NC\, 28637\, United States
CATEGORIES:Walkin' Roll Events
END:VEVENT
BEGIN:VEVENT
DTSTART;TZID=America/New_York:20230303T170000
DTEND;TZID=America/New_York:20230303T190000
DTSTAMP:20260425T095643
CREATED:20230102T021323Z
LAST-MODIFIED:20230122T035259Z
UID:1599-1677862800-1677870000@www.walkinroll.org
SUMMARY:Game Night
DESCRIPTION:Join us for Game Night on the 1st and 3rd Friday of each month.\n\n\n  \nWatch our Facebook Group for updates regarding the theme and menu of each event.
URL:https://www.walkinroll.org/event/game-night-17/
LOCATION:Walkin’ Roll Activities Center\, 202 S Center Street\, Hildebran\, NC\, 28637\, United States
CATEGORIES:Walkin' Roll Events
END:VEVENT
BEGIN:VEVENT
DTSTART;TZID=America/New_York:20230217T170000
DTEND;TZID=America/New_York:20230217T190000
DTSTAMP:20260425T095643
CREATED:20230102T021302Z
LAST-MODIFIED:20230122T035224Z
UID:1597-1676653200-1676660400@www.walkinroll.org
SUMMARY:Game Night
DESCRIPTION:Join us for Game Night on the 1st and 3rd Friday of each month.\n\n\n  \nWatch our Facebook Group for updates regarding the theme and menu of each event.
URL:https://www.walkinroll.org/event/game-night-16/
LOCATION:Walkin’ Roll Activities Center\, 202 S Center Street\, Hildebran\, NC\, 28637\, United States
CATEGORIES:Walkin' Roll Events
END:VEVENT
BEGIN:VEVENT
DTSTART;TZID=America/New_York:20230203T170000
DTEND;TZID=America/New_York:20230203T190000
DTSTAMP:20260425T095643
CREATED:20230102T021231Z
LAST-MODIFIED:20230122T035124Z
UID:1595-1675443600-1675450800@www.walkinroll.org
SUMMARY:Superbowl Party Game Night
DESCRIPTION:Superbowl Party Theme — We’ll have Hot Dogs. We need everyone to bring the fixings. \nJoin us for Game Night on the 1st and 3rd Friday of each month. \n  \nWatch our Facebook Group for updates regarding the theme and menu of each event.
URL:https://www.walkinroll.org/event/game-night-15/
LOCATION:Walkin’ Roll Activities Center\, 202 S Center Street\, Hildebran\, NC\, 28637\, United States
CATEGORIES:Walkin' Roll Events
END:VEVENT
BEGIN:VEVENT
DTSTART;TZID=America/New_York:20230123T173000
DTEND;TZID=America/New_York:20230123T193000
DTSTAMP:20260425T095643
CREATED:20230114T051813Z
LAST-MODIFIED:20230122T034900Z
UID:1684-1674495000-1674502200@www.walkinroll.org
SUMMARY:Inclusive Winter Craft
DESCRIPTION:Inclusive Winter Craft – this is a free program but will require registration since spots are limited. \nRegister here: https://hickory.activityreg.com/selectactivity_t2.wcs \n\nHighland Recreation Center – Monday\, January 23rd at 5:30 p.m.\n\n			\n				\n					\n						\n							\n							Loading...\n						\n					\n					\n						\n							\n							Taking too long?\n						\n						\n							\n								 Reload document							\n							|\n							\n								 Open in new tab
URL:https://www.walkinroll.org/event/inclusive-winter-craft/
LOCATION:Highland Recreation Center\, 1451 8th St Dr NE\, Hickory\, NC\, 28601\, United States
CATEGORIES:Hickory Parks
ORGANIZER;CN="Crystal Martinez":MAILTO:cmartinez@hickorync.gov
END:VEVENT
BEGIN:VEVENT
DTSTART;TZID=America/New_York:20230120T170000
DTEND;TZID=America/New_York:20230120T190000
DTSTAMP:20260425T095643
CREATED:20230102T022509Z
LAST-MODIFIED:20230102T022509Z
UID:1639-1674234000-1674241200@www.walkinroll.org
SUMMARY:Game Night
DESCRIPTION:Join us for Game Night on the 1st and 3rd Friday of each month.\n\nWatch our Facebook Group for updates regarding the theme and menu of each event.
URL:https://www.walkinroll.org/event/game-night-37/
LOCATION:Walkin’ Roll Activities Center\, 202 S Center Street\, Hildebran\, NC\, 28637\, United States
CATEGORIES:Walkin' Roll Events
ATTACH;FMTTYPE=image/jpeg:https://www.walkinroll.org/wp-content/uploads/aaaBlank.jpg
END:VEVENT
BEGIN:VEVENT
DTSTART;TZID=America/New_York:20230106T170000
DTEND;TZID=America/New_York:20230106T190000
DTSTAMP:20260425T095643
CREATED:20230102T020952Z
LAST-MODIFIED:20230102T020952Z
UID:1593-1673024400-1673031600@www.walkinroll.org
SUMMARY:Game Night
DESCRIPTION:Join us for Game Night on the 1st and 3rd Friday of each month.\n\nWatch our Facebook Group for updates regarding the theme and menu of each event.
URL:https://www.walkinroll.org/event/game-night-14/
LOCATION:Walkin’ Roll Activities Center\, 202 S Center Street\, Hildebran\, NC\, 28637\, United States
CATEGORIES:Walkin' Roll Events
ATTACH;FMTTYPE=image/jpeg:https://www.walkinroll.org/wp-content/uploads/aaaBlank.jpg
END:VEVENT
END:VCALENDAR