BEGIN:VCALENDAR
VERSION:2.0
PRODID:-//Walkin&#039; Roll Activities League, Inc. - ECPv6.15.20//NONSGML v1.0//EN
CALSCALE:GREGORIAN
METHOD:PUBLISH
X-WR-CALNAME:Walkin&#039; Roll Activities League, Inc.
X-ORIGINAL-URL:https://www.walkinroll.org
X-WR-CALDESC:Events for Walkin&#039; Roll Activities League, Inc.
REFRESH-INTERVAL;VALUE=DURATION:PT1H
X-Robots-Tag:noindex
X-PUBLISHED-TTL:PT1H
BEGIN:VTIMEZONE
TZID:America/New_York
BEGIN:DAYLIGHT
TZOFFSETFROM:-0500
TZOFFSETTO:-0400
TZNAME:EDT
DTSTART:20220313T070000
END:DAYLIGHT
BEGIN:STANDARD
TZOFFSETFROM:-0400
TZOFFSETTO:-0500
TZNAME:EST
DTSTART:20221106T060000
END:STANDARD
BEGIN:DAYLIGHT
TZOFFSETFROM:-0500
TZOFFSETTO:-0400
TZNAME:EDT
DTSTART:20230312T070000
END:DAYLIGHT
BEGIN:STANDARD
TZOFFSETFROM:-0400
TZOFFSETTO:-0500
TZNAME:EST
DTSTART:20231105T060000
END:STANDARD
BEGIN:DAYLIGHT
TZOFFSETFROM:-0500
TZOFFSETTO:-0400
TZNAME:EDT
DTSTART:20240310T070000
END:DAYLIGHT
BEGIN:STANDARD
TZOFFSETFROM:-0400
TZOFFSETTO:-0500
TZNAME:EST
DTSTART:20241103T060000
END:STANDARD
END:VTIMEZONE
BEGIN:VEVENT
DTSTART;TZID=America/New_York:20231029T170000
DTEND;TZID=America/New_York:20231029T190000
DTSTAMP:20260425T100340
CREATED:20231002T020758Z
LAST-MODIFIED:20231002T020838Z
UID:2174-1698598800-1698606000@www.walkinroll.org
SUMMARY:Trunk or Treat @ Mt. Hebron Lutheran Church
DESCRIPTION:Trunk or Treat \n6:00 Mt. Hebron Lutheran Church – Hildebran \n                                       
URL:https://www.walkinroll.org/event/trunk-or-treat-mt-hebron-lutheran-church/
LOCATION:Mt. Hebron Church – Hildebran\, 103 Main Ave E\, Hildebran\, NC\, 28637\, United States
CATEGORIES:Mt. Hebron Church - Hildebran
END:VEVENT
BEGIN:VEVENT
DTSTART;TZID=America/New_York:20231007T093000
DTEND;TZID=America/New_York:20231007T110000
DTSTAMP:20260425T100340
CREATED:20231002T014711Z
LAST-MODIFIED:20231002T014711Z
UID:2162-1696671000-1696676400@www.walkinroll.org
SUMMARY:Blessing of the Animals (real or stuffed)
DESCRIPTION:Blessing of the Animals (real or stuffed)  \nMt. Hebron Church -Hildebran at 10:30  AM
URL:https://www.walkinroll.org/event/blessing-of-the-animals-real-or-stuffed/
LOCATION:Mt. Hebron Church – Hildebran\, 103 Main Ave E\, Hildebran\, NC\, 28637\, United States
CATEGORIES:Mt. Hebron Church - Hildebran
END:VEVENT
END:VCALENDAR